BEGIN:VCALENDAR
VERSION:2.0
PRODID:-//Broome North Primary School - ECPv6.15.18//NONSGML v1.0//EN
CALSCALE:GREGORIAN
METHOD:PUBLISH
X-WR-CALNAME:Broome North Primary School
X-ORIGINAL-URL:https://broomenorthps.wa.edu.au
X-WR-CALDESC:Events for Broome North Primary School
REFRESH-INTERVAL;VALUE=DURATION:PT1H
X-Robots-Tag:noindex
X-PUBLISHED-TTL:PT1H
BEGIN:VTIMEZONE
TZID:Australia/Perth
BEGIN:STANDARD
TZOFFSETFROM:+0800
TZOFFSETTO:+0800
TZNAME:AWST
DTSTART:20220101T000000
END:STANDARD
END:VTIMEZONE
BEGIN:VEVENT
DTSTART;TZID=Australia/Perth:20241213T080000
DTEND;TZID=Australia/Perth:20241213T170000
DTSTAMP:20260421T172911
CREATED:20240204T083753Z
LAST-MODIFIED:20240204T083753Z
UID:3677-1734076800-1734109200@broomenorthps.wa.edu.au
SUMMARY:Student free day
DESCRIPTION:
URL:https://broomenorthps.wa.edu.au/event/student-free-day-2/
CATEGORIES:1. Student free days and Public holidays
END:VEVENT
BEGIN:VEVENT
DTSTART;VALUE=DATE:20241213
DTEND;VALUE=DATE:20250125
DTSTAMP:20260421T172911
CREATED:20240305T055033Z
LAST-MODIFIED:20240305T055033Z
UID:4585-1734048000-1737763199@broomenorthps.wa.edu.au
SUMMARY:School Holidays
DESCRIPTION:
URL:https://broomenorthps.wa.edu.au/event/school-holidays-5/
CATEGORIES:1. Student free days and Public holidays
END:VEVENT
BEGIN:VEVENT
DTSTART;VALUE=DATE:20240930
DTEND;VALUE=DATE:20241005
DTSTAMP:20260421T172911
CREATED:20240220T063658Z
LAST-MODIFIED:20240220T063658Z
UID:4170-1727654400-1728086399@broomenorthps.wa.edu.au
SUMMARY:School Holidays
DESCRIPTION:
URL:https://broomenorthps.wa.edu.au/event/school-holidays-4/
CATEGORIES:1. Student free days and Public holidays
END:VEVENT
BEGIN:VEVENT
DTSTART;VALUE=DATE:20240923
DTEND;VALUE=DATE:20240928
DTSTAMP:20260421T172911
CREATED:20240220T063621Z
LAST-MODIFIED:20240220T063621Z
UID:4168-1727049600-1727481599@broomenorthps.wa.edu.au
SUMMARY:School Holidays
DESCRIPTION:
URL:https://broomenorthps.wa.edu.au/event/school-holidays-3/
CATEGORIES:1. Student free days and Public holidays
END:VEVENT
BEGIN:VEVENT
DTSTART;VALUE=DATE:20240715
DTEND;VALUE=DATE:20240716
DTSTAMP:20260421T172911
CREATED:20240205T031323Z
LAST-MODIFIED:20240205T031646Z
UID:3687-1721001600-1721087999@broomenorthps.wa.edu.au
SUMMARY:Student Free day
DESCRIPTION:School Development Day
URL:https://broomenorthps.wa.edu.au/event/student-free-day-3/
CATEGORIES:1. Student free days and Public holidays
END:VEVENT
BEGIN:VEVENT
DTSTART;VALUE=DATE:20240708
DTEND;VALUE=DATE:20240713
DTSTAMP:20260421T172911
CREATED:20240220T060739Z
LAST-MODIFIED:20240220T060739Z
UID:4120-1720396800-1720828799@broomenorthps.wa.edu.au
SUMMARY:School Holidays
DESCRIPTION:
URL:https://broomenorthps.wa.edu.au/event/school-holidays-2/
CATEGORIES:1. Student free days and Public holidays
END:VEVENT
BEGIN:VEVENT
DTSTART;VALUE=DATE:20240701
DTEND;VALUE=DATE:20240706
DTSTAMP:20260421T172911
CREATED:20240220T060656Z
LAST-MODIFIED:20240220T060656Z
UID:4118-1719792000-1720223999@broomenorthps.wa.edu.au
SUMMARY:School Holidays
DESCRIPTION:
URL:https://broomenorthps.wa.edu.au/event/school-holidays/
CATEGORIES:1. Student free days and Public holidays
END:VEVENT
BEGIN:VEVENT
DTSTART;VALUE=DATE:20240603
DTEND;VALUE=DATE:20240604
DTSTAMP:20260421T172911
CREATED:20230524T003308Z
LAST-MODIFIED:20240205T030916Z
UID:2851-1717372800-1717459199@broomenorthps.wa.edu.au
SUMMARY:WA Day
DESCRIPTION:Public Holiday
URL:https://broomenorthps.wa.edu.au/event/wa-day-public-holiday/
CATEGORIES:1. Student free days and Public holidays
END:VEVENT
BEGIN:VEVENT
DTSTART;VALUE=DATE:20240531
DTEND;VALUE=DATE:20240604
DTSTAMP:20260421T172911
CREATED:20240221T000546Z
LAST-MODIFIED:20240221T000546Z
UID:4214-1717113600-1717459199@broomenorthps.wa.edu.au
SUMMARY:Long Weekend
DESCRIPTION:
URL:https://broomenorthps.wa.edu.au/event/long-weekend/
CATEGORIES:1. Student free days and Public holidays
END:VEVENT
BEGIN:VEVENT
DTSTART;VALUE=DATE:20240531
DTEND;VALUE=DATE:20240601
DTSTAMP:20260421T172911
CREATED:20230524T003022Z
LAST-MODIFIED:20240204T065459Z
UID:2849-1717113600-1717199999@broomenorthps.wa.edu.au
SUMMARY:Student Free Day
DESCRIPTION:Student do not attend – Broome Schools Cluster Conference
URL:https://broomenorthps.wa.edu.au/event/student-free-day/
CATEGORIES:1. Student free days and Public holidays
END:VEVENT
BEGIN:VEVENT
DTSTART;VALUE=DATE:20240426
DTEND;VALUE=DATE:20240427
DTSTAMP:20260421T172911
CREATED:20230526T070700Z
LAST-MODIFIED:20240204T065350Z
UID:2920-1714089600-1714175999@broomenorthps.wa.edu.au
SUMMARY:Student Free Day
DESCRIPTION:Students do not attend.   Staff Development Day
URL:https://broomenorthps.wa.edu.au/event/staff-development-day/
CATEGORIES:1. Student free days and Public holidays
END:VEVENT
BEGIN:VEVENT
DTSTART;VALUE=DATE:20240425
DTEND;VALUE=DATE:20240429
DTSTAMP:20260421T172911
CREATED:20240221T000845Z
LAST-MODIFIED:20240221T000845Z
UID:4216-1714003200-1714348799@broomenorthps.wa.edu.au
SUMMARY:Long Weekend
DESCRIPTION:
URL:https://broomenorthps.wa.edu.au/event/long-weekend-2/
CATEGORIES:1. Student free days and Public holidays
END:VEVENT
BEGIN:VEVENT
DTSTART;VALUE=DATE:20240425
DTEND;VALUE=DATE:20240426
DTSTAMP:20260421T172911
CREATED:20240204T064834Z
LAST-MODIFIED:20240205T030810Z
UID:3644-1714003200-1714089599@broomenorthps.wa.edu.au
SUMMARY:ANZAC Day
DESCRIPTION:Public Holiday
URL:https://broomenorthps.wa.edu.au/event/anzac-day/
CATEGORIES:1. Student free days and Public holidays
END:VEVENT
BEGIN:VEVENT
DTSTART;VALUE=DATE:20240329
DTEND;VALUE=DATE:20240415
DTSTAMP:20260421T172911
CREATED:20230529T063953Z
LAST-MODIFIED:20240220T071114Z
UID:3093-1711670400-1713139199@broomenorthps.wa.edu.au
SUMMARY:School Holidays
DESCRIPTION:
URL:https://broomenorthps.wa.edu.au/event/school-holidays-term-break-week-2/
CATEGORIES:1. Student free days and Public holidays
END:VEVENT
BEGIN:VEVENT
DTSTART;VALUE=DATE:20240329
DTEND;VALUE=DATE:20240330
DTSTAMP:20260421T172911
CREATED:20240205T030414Z
LAST-MODIFIED:20240205T030414Z
UID:3681-1711670400-1711756799@broomenorthps.wa.edu.au
SUMMARY:Good Friday
DESCRIPTION:Start of School Holidays
URL:https://broomenorthps.wa.edu.au/event/good-friday/
CATEGORIES:1. Student free days and Public holidays
END:VEVENT
BEGIN:VEVENT
DTSTART;VALUE=DATE:20240304
DTEND;VALUE=DATE:20240305
DTSTAMP:20260421T172911
CREATED:20240205T030620Z
LAST-MODIFIED:20240205T030628Z
UID:3683-1709510400-1709596799@broomenorthps.wa.edu.au
SUMMARY:Labour Day
DESCRIPTION:Public Holiday
URL:https://broomenorthps.wa.edu.au/event/labour-day/
CATEGORIES:1. Student free days and Public holidays
END:VEVENT
BEGIN:VEVENT
DTSTART;VALUE=DATE:20240129
DTEND;VALUE=DATE:20240131
DTSTAMP:20260421T172911
CREATED:20230529T065930Z
LAST-MODIFIED:20240204T055802Z
UID:3115-1706486400-1706659199@broomenorthps.wa.edu.au
SUMMARY:Staff Development Day
DESCRIPTION:Student free day.  Students do not attend.
URL:https://broomenorthps.wa.edu.au/event/staff-development-day-2/
CATEGORIES:1. Student free days and Public holidays
END:VEVENT
BEGIN:VEVENT
DTSTART;VALUE=DATE:20230925
DTEND;VALUE=DATE:20230930
DTSTAMP:20260421T172911
CREATED:20230529T063907Z
LAST-MODIFIED:20230529T063907Z
UID:3091-1695600000-1696031999@broomenorthps.wa.edu.au
SUMMARY:School Holidays - Term break week 1
DESCRIPTION:
URL:https://broomenorthps.wa.edu.au/event/school-holidays-term-break-week-1/
CATEGORIES:1. Student free days and Public holidays
END:VEVENT
BEGIN:VEVENT
DTSTART;VALUE=DATE:20230710
DTEND;VALUE=DATE:20230715
DTSTAMP:20260421T172911
CREATED:20230529T010553Z
LAST-MODIFIED:20230529T010553Z
UID:2987-1688947200-1689379199@broomenorthps.wa.edu.au
SUMMARY:School Holidays - term break
DESCRIPTION:
URL:https://broomenorthps.wa.edu.au/event/school-holidays-term-break-2/
CATEGORIES:1. Student free days and Public holidays
END:VEVENT
BEGIN:VEVENT
DTSTART;VALUE=DATE:20230703
DTEND;VALUE=DATE:20230708
DTSTAMP:20260421T172911
CREATED:20230526T070517Z
LAST-MODIFIED:20230529T010448Z
UID:2918-1688342400-1688774399@broomenorthps.wa.edu.au
SUMMARY:School holidays - term break
DESCRIPTION:
URL:https://broomenorthps.wa.edu.au/event/school-holidays-term-break/
CATEGORIES:1. Student free days and Public holidays
END:VEVENT
END:VCALENDAR