BEGIN:VCALENDAR
VERSION:2.0
PRODID:-//Broome North Primary School - ECPv6.15.18//NONSGML v1.0//EN
CALSCALE:GREGORIAN
METHOD:PUBLISH
X-ORIGINAL-URL:https://broomenorthps.wa.edu.au
X-WR-CALDESC:Events for Broome North Primary School
REFRESH-INTERVAL;VALUE=DURATION:PT1H
X-Robots-Tag:noindex
X-PUBLISHED-TTL:PT1H
BEGIN:VTIMEZONE
TZID:Australia/Perth
BEGIN:STANDARD
TZOFFSETFROM:+0800
TZOFFSETTO:+0800
TZNAME:AWST
DTSTART:20230101T000000
END:STANDARD
END:VTIMEZONE
BEGIN:VEVENT
DTSTART;TZID=Australia/Perth:20240819T070000
DTEND;TZID=Australia/Perth:20240819T080000
DTSTAMP:20260424T061209
CREATED:20240223T015016Z
LAST-MODIFIED:20240223T015016Z
UID:4272-1724050800-1724054400@broomenorthps.wa.edu.au
SUMMARY:Junior Brass Band
DESCRIPTION:
URL:https://broomenorthps.wa.edu.au/event/junior-brass-band-13/
CATEGORIES:4. Sports, Music and Academic events.
END:VEVENT
BEGIN:VEVENT
DTSTART;TZID=Australia/Perth:20240816T131000
DTEND;TZID=Australia/Perth:20240816T141000
DTSTAMP:20260424T061209
CREATED:20240223T005758Z
LAST-MODIFIED:20240223T005758Z
UID:4262-1723813800-1723817400@broomenorthps.wa.edu.au
SUMMARY:Senior Choir
DESCRIPTION:
URL:https://broomenorthps.wa.edu.au/event/senior-choir-22/
CATEGORIES:4. Sports, Music and Academic events.
END:VEVENT
BEGIN:VEVENT
DTSTART;TZID=Australia/Perth:20240813T142000
DTEND;TZID=Australia/Perth:20240813T153000
DTSTAMP:20260424T061209
CREATED:20240223T004730Z
LAST-MODIFIED:20240223T004730Z
UID:4252-1723558800-1723563000@broomenorthps.wa.edu.au
SUMMARY:Senior Brass Band
DESCRIPTION:
URL:https://broomenorthps.wa.edu.au/event/senior-brass-band-21/
CATEGORIES:4. Sports, Music and Academic events.
END:VEVENT
BEGIN:VEVENT
DTSTART;TZID=Australia/Perth:20240813T072500
DTEND;TZID=Australia/Perth:20240813T080000
DTSTAMP:20260424T061209
CREATED:20240223T004615Z
LAST-MODIFIED:20240223T004615Z
UID:4250-1723533900-1723536000@broomenorthps.wa.edu.au
SUMMARY:Ryu Choir
DESCRIPTION:
URL:https://broomenorthps.wa.edu.au/event/ryu-choir-24/
CATEGORIES:4. Sports, Music and Academic events.
END:VEVENT
BEGIN:VEVENT
DTSTART;TZID=Australia/Perth:20240812T070000
DTEND;TZID=Australia/Perth:20240812T080000
DTSTAMP:20260424T061209
CREATED:20240221T030117Z
LAST-MODIFIED:20240221T030117Z
UID:4229-1723446000-1723449600@broomenorthps.wa.edu.au
SUMMARY:Junior Brass Band
DESCRIPTION:
URL:https://broomenorthps.wa.edu.au/event/junior-brass-band-12/
CATEGORIES:4. Sports, Music and Academic events.
END:VEVENT
BEGIN:VEVENT
DTSTART;TZID=Australia/Perth:20240809T131000
DTEND;TZID=Australia/Perth:20240809T141000
DTSTAMP:20260424T061209
CREATED:20240221T025956Z
LAST-MODIFIED:20240221T025956Z
UID:4227-1723209000-1723212600@broomenorthps.wa.edu.au
SUMMARY:Senior Choir
DESCRIPTION:
URL:https://broomenorthps.wa.edu.au/event/senior-choir-21/
CATEGORIES:4. Sports, Music and Academic events.
END:VEVENT
BEGIN:VEVENT
DTSTART;TZID=Australia/Perth:20240809T080000
DTEND;TZID=Australia/Perth:20240809T141000
DTSTAMP:20260424T061209
CREATED:20240220T070902Z
LAST-MODIFIED:20240220T070902Z
UID:4210-1723190400-1723212600@broomenorthps.wa.edu.au
SUMMARY:House Athletics Carnival
DESCRIPTION:
URL:https://broomenorthps.wa.edu.au/event/house-athletics-carnival-2/
CATEGORIES:4. Sports, Music and Academic events.
END:VEVENT
BEGIN:VEVENT
DTSTART;TZID=Australia/Perth:20240808T080000
DTEND;TZID=Australia/Perth:20240808T141000
DTSTAMP:20260424T061209
CREATED:20240220T070829Z
LAST-MODIFIED:20240220T070829Z
UID:4208-1723104000-1723126200@broomenorthps.wa.edu.au
SUMMARY:House Jumps and Throws Carnival
DESCRIPTION:For more information\, please contact our Sports Specialist\, Kellie Carder: Kellie.Carder@education.wa.edu.au
URL:https://broomenorthps.wa.edu.au/event/house-jumps-and-throws-carnival-2/
CATEGORIES:4. Sports, Music and Academic events.
END:VEVENT
BEGIN:VEVENT
DTSTART;TZID=Australia/Perth:20240807T080000
DTEND;TZID=Australia/Perth:20240807T141000
DTSTAMP:20260424T061209
CREATED:20240716T053735Z
LAST-MODIFIED:20240716T053735Z
UID:4896-1723017600-1723039800@broomenorthps.wa.edu.au
SUMMARY:Festival of STEM Excursion Year 4\, 5
DESCRIPTION:
URL:https://broomenorthps.wa.edu.au/event/festival-of-stem-excursion-year-4-5/
CATEGORIES:4. Sports, Music and Academic events.
END:VEVENT
BEGIN:VEVENT
DTSTART;TZID=Australia/Perth:20240807T080000
DTEND;TZID=Australia/Perth:20240807T103000
DTSTAMP:20260424T061209
CREATED:20240610T055323Z
LAST-MODIFIED:20240610T055323Z
UID:4856-1723017600-1723026600@broomenorthps.wa.edu.au
SUMMARY:Early Childhood Athletics Carnival
DESCRIPTION:
URL:https://broomenorthps.wa.edu.au/event/early-childhood-athletics-carnival/
CATEGORIES:4. Sports, Music and Academic events.
END:VEVENT
BEGIN:VEVENT
DTSTART;TZID=Australia/Perth:20240806T142000
DTEND;TZID=Australia/Perth:20240806T153000
DTSTAMP:20260424T061209
CREATED:20240221T025909Z
LAST-MODIFIED:20240221T025909Z
UID:4225-1722954000-1722958200@broomenorthps.wa.edu.au
SUMMARY:Senior Brass Band
DESCRIPTION:
URL:https://broomenorthps.wa.edu.au/event/senior-brass-band-20/
CATEGORIES:4. Sports, Music and Academic events.
END:VEVENT
BEGIN:VEVENT
DTSTART;TZID=Australia/Perth:20240806T072500
DTEND;TZID=Australia/Perth:20240806T080000
DTSTAMP:20260424T061209
CREATED:20240221T025633Z
LAST-MODIFIED:20240221T025821Z
UID:4222-1722929100-1722931200@broomenorthps.wa.edu.au
SUMMARY:Ryu Choir
DESCRIPTION:
URL:https://broomenorthps.wa.edu.au/event/ryu-choir-23/
CATEGORIES:4. Sports, Music and Academic events.
END:VEVENT
BEGIN:VEVENT
DTSTART;TZID=Australia/Perth:20240805T070000
DTEND;TZID=Australia/Perth:20240805T080000
DTSTAMP:20260424T061209
CREATED:20240221T025338Z
LAST-MODIFIED:20240221T025338Z
UID:4218-1722841200-1722844800@broomenorthps.wa.edu.au
SUMMARY:Junior Brass Band
DESCRIPTION:
URL:https://broomenorthps.wa.edu.au/event/junior-brass-band-11/
CATEGORIES:4. Sports, Music and Academic events.
END:VEVENT
BEGIN:VEVENT
DTSTART;TZID=Australia/Perth:20240802T131000
DTEND;TZID=Australia/Perth:20240802T141000
DTSTAMP:20260424T061209
CREATED:20240220T070616Z
LAST-MODIFIED:20240722T040528Z
UID:4204-1722604200-1722607800@broomenorthps.wa.edu.au
SUMMARY:Whole-school athletics practice\, no senior choir
DESCRIPTION:
URL:https://broomenorthps.wa.edu.au/event/senior-choir-20/
CATEGORIES:4. Sports, Music and Academic events.
END:VEVENT
BEGIN:VEVENT
DTSTART;TZID=Australia/Perth:20240730T142000
DTEND;TZID=Australia/Perth:20240730T153000
DTSTAMP:20260424T061209
CREATED:20240220T070146Z
LAST-MODIFIED:20240220T070146Z
UID:4201-1722349200-1722353400@broomenorthps.wa.edu.au
SUMMARY:Senior Brass Band
DESCRIPTION:
URL:https://broomenorthps.wa.edu.au/event/senior-brass-band-19/
CATEGORIES:4. Sports, Music and Academic events.
END:VEVENT
BEGIN:VEVENT
DTSTART;TZID=Australia/Perth:20240730T072500
DTEND;TZID=Australia/Perth:20240730T080000
DTSTAMP:20260424T061209
CREATED:20240220T070105Z
LAST-MODIFIED:20240220T070105Z
UID:4199-1722324300-1722326400@broomenorthps.wa.edu.au
SUMMARY:Ryu Choir
DESCRIPTION:
URL:https://broomenorthps.wa.edu.au/event/ryu-choir-22/
CATEGORIES:4. Sports, Music and Academic events.
END:VEVENT
BEGIN:VEVENT
DTSTART;TZID=Australia/Perth:20240729T080000
DTEND;TZID=Australia/Perth:20240729T141000
DTSTAMP:20260424T061209
CREATED:20240220T070027Z
LAST-MODIFIED:20240220T070257Z
UID:4197-1722240000-1722262200@broomenorthps.wa.edu.au
SUMMARY:IMSS Lessons
DESCRIPTION:
URL:https://broomenorthps.wa.edu.au/event/imss-lessons-17/
CATEGORIES:4. Sports, Music and Academic events.
END:VEVENT
BEGIN:VEVENT
DTSTART;TZID=Australia/Perth:20240729T070000
DTEND;TZID=Australia/Perth:20240729T080000
DTSTAMP:20260424T061209
CREATED:20240220T065942Z
LAST-MODIFIED:20240220T065942Z
UID:4195-1722236400-1722240000@broomenorthps.wa.edu.au
SUMMARY:Junior Brass Band
DESCRIPTION:
URL:https://broomenorthps.wa.edu.au/event/junior-brass-band-10/
CATEGORIES:4. Sports, Music and Academic events.
END:VEVENT
BEGIN:VEVENT
DTSTART;TZID=Australia/Perth:20240726T131000
DTEND;TZID=Australia/Perth:20240726T141000
DTSTAMP:20260424T061209
CREATED:20240220T065427Z
LAST-MODIFIED:20240722T040403Z
UID:4189-1721999400-1722003000@broomenorthps.wa.edu.au
SUMMARY:Whole-school athletics practice\, no senior choir
DESCRIPTION:
URL:https://broomenorthps.wa.edu.au/event/senior-choir-19/
CATEGORIES:4. Sports, Music and Academic events.
END:VEVENT
BEGIN:VEVENT
DTSTART;TZID=Australia/Perth:20240723T142000
DTEND;TZID=Australia/Perth:20240723T153000
DTSTAMP:20260424T061209
CREATED:20240220T064927Z
LAST-MODIFIED:20240220T064927Z
UID:4182-1721744400-1721748600@broomenorthps.wa.edu.au
SUMMARY:Senior Brass Band
DESCRIPTION:
URL:https://broomenorthps.wa.edu.au/event/senior-brass-band-18/
CATEGORIES:4. Sports, Music and Academic events.
END:VEVENT
BEGIN:VEVENT
DTSTART;TZID=Australia/Perth:20240723T072500
DTEND;TZID=Australia/Perth:20240723T080000
DTSTAMP:20260424T061209
CREATED:20240220T064817Z
LAST-MODIFIED:20240220T064836Z
UID:4180-1721719500-1721721600@broomenorthps.wa.edu.au
SUMMARY:Ryu Choir
DESCRIPTION:
URL:https://broomenorthps.wa.edu.au/event/ryu-choir-21/
CATEGORIES:4. Sports, Music and Academic events.
END:VEVENT
BEGIN:VEVENT
DTSTART;TZID=Australia/Perth:20240722T080000
DTEND;TZID=Australia/Perth:20240722T141000
DTSTAMP:20260424T061209
CREATED:20240220T064709Z
LAST-MODIFIED:20240220T064709Z
UID:4178-1721635200-1721657400@broomenorthps.wa.edu.au
SUMMARY:IMSS Lessons
DESCRIPTION:
URL:https://broomenorthps.wa.edu.au/event/imss-lessons-16/
CATEGORIES:4. Sports, Music and Academic events.
END:VEVENT
BEGIN:VEVENT
DTSTART;TZID=Australia/Perth:20240722T070000
DTEND;TZID=Australia/Perth:20240722T080000
DTSTAMP:20260424T061209
CREATED:20240220T064322Z
LAST-MODIFIED:20240220T064322Z
UID:4176-1721631600-1721635200@broomenorthps.wa.edu.au
SUMMARY:Junior Brass Band
DESCRIPTION:
URL:https://broomenorthps.wa.edu.au/event/junior-brass-band-9/
CATEGORIES:4. Sports, Music and Academic events.
END:VEVENT
BEGIN:VEVENT
DTSTART;TZID=Australia/Perth:20240719T131000
DTEND;TZID=Australia/Perth:20240719T141000
DTSTAMP:20260424T061209
CREATED:20240220T064208Z
LAST-MODIFIED:20240220T064208Z
UID:4174-1721394600-1721398200@broomenorthps.wa.edu.au
SUMMARY:Senior Choir
DESCRIPTION:
URL:https://broomenorthps.wa.edu.au/event/senior-choir-18/
CATEGORIES:4. Sports, Music and Academic events.
END:VEVENT
BEGIN:VEVENT
DTSTART;TZID=Australia/Perth:20240716T142000
DTEND;TZID=Australia/Perth:20240716T153000
DTSTAMP:20260424T061209
CREATED:20240220T061154Z
LAST-MODIFIED:20240220T061154Z
UID:4124-1721139600-1721143800@broomenorthps.wa.edu.au
SUMMARY:Senior Brass Band
DESCRIPTION:
URL:https://broomenorthps.wa.edu.au/event/senior-brass-band-17/
CATEGORIES:4. Sports, Music and Academic events.
END:VEVENT
BEGIN:VEVENT
DTSTART;TZID=Australia/Perth:20240716T072500
DTEND;TZID=Australia/Perth:20240716T080000
DTSTAMP:20260424T061209
CREATED:20240220T061055Z
LAST-MODIFIED:20240220T061055Z
UID:4122-1721114700-1721116800@broomenorthps.wa.edu.au
SUMMARY:Ryu Choir
DESCRIPTION:
URL:https://broomenorthps.wa.edu.au/event/ryu-choir-20/
CATEGORIES:4. Sports, Music and Academic events.
END:VEVENT
BEGIN:VEVENT
DTSTART;TZID=Australia/Perth:20240628T131000
DTEND;TZID=Australia/Perth:20240628T141000
DTSTAMP:20260424T061209
CREATED:20240220T055902Z
LAST-MODIFIED:20240220T055902Z
UID:4110-1719580200-1719583800@broomenorthps.wa.edu.au
SUMMARY:Senior Choir
DESCRIPTION:For more information on our BNPS Choir\, please contact Music Specialist\, Hannah Trewartha: Hannah.Trewartha@education.wa.edu.au
URL:https://broomenorthps.wa.edu.au/event/senior-choir-17/
CATEGORIES:4. Sports, Music and Academic events.
END:VEVENT
BEGIN:VEVENT
DTSTART;TZID=Australia/Perth:20240625T142000
DTEND;TZID=Australia/Perth:20240625T153000
DTSTAMP:20260424T061209
CREATED:20240220T055613Z
LAST-MODIFIED:20240220T055613Z
UID:4106-1719325200-1719329400@broomenorthps.wa.edu.au
SUMMARY:Senior Brass Band
DESCRIPTION:For more information on our Brass Program\, please contact Music Specialist\, Hannah Trewartha: Hannah.Trewartha@education.wa.edu.au
URL:https://broomenorthps.wa.edu.au/event/senior-brass-band-16/
CATEGORIES:4. Sports, Music and Academic events.
END:VEVENT
BEGIN:VEVENT
DTSTART;TZID=Australia/Perth:20240625T072500
DTEND;TZID=Australia/Perth:20240625T080000
DTSTAMP:20260424T061209
CREATED:20240220T055711Z
LAST-MODIFIED:20240220T055711Z
UID:4108-1719300300-1719302400@broomenorthps.wa.edu.au
SUMMARY:Ryu Choir
DESCRIPTION:For more information on our BNPS Choir\, please contact Music Specialist\, Hannah Trewartha: Hannah.Trewartha@education.wa.edu.au
URL:https://broomenorthps.wa.edu.au/event/ryu-choir-19/
CATEGORIES:4. Sports, Music and Academic events.
END:VEVENT
BEGIN:VEVENT
DTSTART;TZID=Australia/Perth:20240624T080000
DTEND;TZID=Australia/Perth:20240624T141000
DTSTAMP:20260424T061209
CREATED:20240220T055535Z
LAST-MODIFIED:20240220T055535Z
UID:4104-1719216000-1719238200@broomenorthps.wa.edu.au
SUMMARY:IMSS Lessons
DESCRIPTION:For more information on our Brass Program\, please contact Music Specialist\, Hannah Trewartha: Hannah.Trewartha@education.wa.edu.au
URL:https://broomenorthps.wa.edu.au/event/imss-lessons-15/
CATEGORIES:4. Sports, Music and Academic events.
END:VEVENT
END:VCALENDAR