BEGIN:VCALENDAR
VERSION:2.0
PRODID:-//Broome North Primary School - ECPv6.15.18//NONSGML v1.0//EN
CALSCALE:GREGORIAN
METHOD:PUBLISH
X-WR-CALNAME:Broome North Primary School
X-ORIGINAL-URL:https://broomenorthps.wa.edu.au
X-WR-CALDESC:Events for Broome North Primary School
REFRESH-INTERVAL;VALUE=DURATION:PT1H
X-Robots-Tag:noindex
X-PUBLISHED-TTL:PT1H
BEGIN:VTIMEZONE
TZID:Australia/Perth
BEGIN:STANDARD
TZOFFSETFROM:+0800
TZOFFSETTO:+0800
TZNAME:AWST
DTSTART:20230101T000000
END:STANDARD
END:VTIMEZONE
BEGIN:VEVENT
DTSTART;TZID=Australia/Perth:20241111T070000
DTEND;TZID=Australia/Perth:20241111T080000
DTSTAMP:20260424T014558
CREATED:20240223T064138Z
LAST-MODIFIED:20240223T064138Z
UID:4491-1731308400-1731312000@broomenorthps.wa.edu.au
SUMMARY:Junior Brass Band
DESCRIPTION:
URL:https://broomenorthps.wa.edu.au/event/junior-brass-band-23/
CATEGORIES:4. Sports, Music and Academic events.
END:VEVENT
BEGIN:VEVENT
DTSTART;TZID=Australia/Perth:20241105T142000
DTEND;TZID=Australia/Perth:20241105T153000
DTSTAMP:20260424T014558
CREATED:20240223T063501Z
LAST-MODIFIED:20240223T063501Z
UID:4479-1730816400-1730820600@broomenorthps.wa.edu.au
SUMMARY:Senior Brass Band
DESCRIPTION:
URL:https://broomenorthps.wa.edu.au/event/senior-brass-band-31/
CATEGORIES:4. Sports, Music and Academic events.
END:VEVENT
BEGIN:VEVENT
DTSTART;TZID=Australia/Perth:20241104T080000
DTEND;TZID=Australia/Perth:20241104T141000
DTSTAMP:20260424T014558
CREATED:20240223T061751Z
LAST-MODIFIED:20240223T061751Z
UID:4449-1730707200-1730729400@broomenorthps.wa.edu.au
SUMMARY:IMSS Lessons
DESCRIPTION:
URL:https://broomenorthps.wa.edu.au/event/imss-lessons-29/
CATEGORIES:4. Sports, Music and Academic events.
END:VEVENT
BEGIN:VEVENT
DTSTART;TZID=Australia/Perth:20241104T070000
DTEND;TZID=Australia/Perth:20241104T080000
DTSTAMP:20260424T014558
CREATED:20240223T061710Z
LAST-MODIFIED:20240223T061710Z
UID:4447-1730703600-1730707200@broomenorthps.wa.edu.au
SUMMARY:Junior Brass Band
DESCRIPTION:
URL:https://broomenorthps.wa.edu.au/event/junior-brass-band-22/
CATEGORIES:4. Sports, Music and Academic events.
END:VEVENT
BEGIN:VEVENT
DTSTART;TZID=Australia/Perth:20241029T142000
DTEND;TZID=Australia/Perth:20241029T153000
DTSTAMP:20260424T014558
CREATED:20240223T060800Z
LAST-MODIFIED:20240223T060800Z
UID:4437-1730211600-1730215800@broomenorthps.wa.edu.au
SUMMARY:Senior Brass Band
DESCRIPTION:
URL:https://broomenorthps.wa.edu.au/event/senior-brass-band-30/
CATEGORIES:4. Sports, Music and Academic events.
END:VEVENT
BEGIN:VEVENT
DTSTART;TZID=Australia/Perth:20241028T080000
DTEND;TZID=Australia/Perth:20241028T141000
DTSTAMP:20260424T014558
CREATED:20240223T060622Z
LAST-MODIFIED:20240223T060622Z
UID:4433-1730102400-1730124600@broomenorthps.wa.edu.au
SUMMARY:Year 4 IMSS Aptitude Testing
DESCRIPTION:Miss T will be conducting in-class aptitude testing for Year 5 students ready for the IMSS Program for 2025.
URL:https://broomenorthps.wa.edu.au/event/year-4-imss-aptitude-testing/
CATEGORIES:4. Sports, Music and Academic events.
END:VEVENT
BEGIN:VEVENT
DTSTART;TZID=Australia/Perth:20241028T080000
DTEND;TZID=Australia/Perth:20241028T141000
DTSTAMP:20260424T014558
CREATED:20240223T060445Z
LAST-MODIFIED:20240223T060445Z
UID:4431-1730102400-1730124600@broomenorthps.wa.edu.au
SUMMARY:IMSS Lessons
DESCRIPTION:
URL:https://broomenorthps.wa.edu.au/event/imss-lessons-28/
CATEGORIES:4. Sports, Music and Academic events.
END:VEVENT
BEGIN:VEVENT
DTSTART;TZID=Australia/Perth:20241028T070000
DTEND;TZID=Australia/Perth:20241028T080000
DTSTAMP:20260424T014558
CREATED:20240223T060033Z
LAST-MODIFIED:20240223T060033Z
UID:4428-1730098800-1730102400@broomenorthps.wa.edu.au
SUMMARY:Junior Brass Band
DESCRIPTION:
URL:https://broomenorthps.wa.edu.au/event/junior-brass-band-21/
CATEGORIES:4. Sports, Music and Academic events.
END:VEVENT
BEGIN:VEVENT
DTSTART;TZID=Australia/Perth:20241023T080000
DTEND;TZID=Australia/Perth:20241023T141000
DTSTAMP:20260424T014558
CREATED:20240223T055556Z
LAST-MODIFIED:20240223T055556Z
UID:4420-1729670400-1729692600@broomenorthps.wa.edu.au
SUMMARY:Kimberley 9's Beach Footy
DESCRIPTION:For more information\, please contact our Sports Specialist\, Kellie Carder: Kellie.Carder@education.wa.edu.au
URL:https://broomenorthps.wa.edu.au/event/kimberley-9s-beach-footy/
CATEGORIES:4. Sports, Music and Academic events.
END:VEVENT
BEGIN:VEVENT
DTSTART;TZID=Australia/Perth:20241022T142000
DTEND;TZID=Australia/Perth:20241022T153000
DTSTAMP:20260424T014558
CREATED:20240223T055348Z
LAST-MODIFIED:20240223T055348Z
UID:4418-1729606800-1729611000@broomenorthps.wa.edu.au
SUMMARY:Senior Brass Band
DESCRIPTION:
URL:https://broomenorthps.wa.edu.au/event/senior-brass-band-29/
CATEGORIES:4. Sports, Music and Academic events.
END:VEVENT
BEGIN:VEVENT
DTSTART;TZID=Australia/Perth:20241021T080000
DTEND;TZID=Australia/Perth:20241021T141000
DTSTAMP:20260424T014558
CREATED:20240223T044418Z
LAST-MODIFIED:20240223T044418Z
UID:4414-1729497600-1729519800@broomenorthps.wa.edu.au
SUMMARY:IMSS Lessons
DESCRIPTION:
URL:https://broomenorthps.wa.edu.au/event/imss-lessons-27/
CATEGORIES:4. Sports, Music and Academic events.
END:VEVENT
BEGIN:VEVENT
DTSTART;TZID=Australia/Perth:20241021T070000
DTEND;TZID=Australia/Perth:20241021T080000
DTSTAMP:20260424T014558
CREATED:20240223T044334Z
LAST-MODIFIED:20240223T044733Z
UID:4412-1729494000-1729497600@broomenorthps.wa.edu.au
SUMMARY:Junior Brass Band
DESCRIPTION:
URL:https://broomenorthps.wa.edu.au/event/junior-brass-band-20/
CATEGORIES:4. Sports, Music and Academic events.
END:VEVENT
BEGIN:VEVENT
DTSTART;TZID=Australia/Perth:20241015T142000
DTEND;TZID=Australia/Perth:20241015T153000
DTSTAMP:20260424T014558
CREATED:20240223T043854Z
LAST-MODIFIED:20240223T043854Z
UID:4408-1729002000-1729006200@broomenorthps.wa.edu.au
SUMMARY:Senior Brass Band
DESCRIPTION:
URL:https://broomenorthps.wa.edu.au/event/senior-brass-band-28/
CATEGORIES:4. Sports, Music and Academic events.
END:VEVENT
BEGIN:VEVENT
DTSTART;TZID=Australia/Perth:20241015T072500
DTEND;TZID=Australia/Perth:20241015T080000
DTSTAMP:20260424T014558
CREATED:20240223T043735Z
LAST-MODIFIED:20240223T043735Z
UID:4406-1728977100-1728979200@broomenorthps.wa.edu.au
SUMMARY:Ryu Choir
DESCRIPTION:
URL:https://broomenorthps.wa.edu.au/event/ryu-choir-31/
CATEGORIES:4. Sports, Music and Academic events.
END:VEVENT
BEGIN:VEVENT
DTSTART;TZID=Australia/Perth:20241014T083000
DTEND;TZID=Australia/Perth:20241014T213000
DTSTAMP:20260424T014558
CREATED:20240829T063317Z
LAST-MODIFIED:20240829T063317Z
UID:5028-1728894600-1728941400@broomenorthps.wa.edu.au
SUMMARY:IMSS Aptitude Testing
DESCRIPTION:For current Year 4 students going into Year 5 at BNPS in 2025
URL:https://broomenorthps.wa.edu.au/event/imss-aptitude-testing/
CATEGORIES:4. Sports, Music and Academic events.
END:VEVENT
BEGIN:VEVENT
DTSTART;TZID=Australia/Perth:20241014T080000
DTEND;TZID=Australia/Perth:20241014T141000
DTSTAMP:20260424T014558
CREATED:20240223T043636Z
LAST-MODIFIED:20240223T043636Z
UID:4404-1728892800-1728915000@broomenorthps.wa.edu.au
SUMMARY:IMSS Lessons
DESCRIPTION:
URL:https://broomenorthps.wa.edu.au/event/imss-lessons-26/
CATEGORIES:4. Sports, Music and Academic events.
END:VEVENT
BEGIN:VEVENT
DTSTART;TZID=Australia/Perth:20241014T070000
DTEND;TZID=Australia/Perth:20241014T080000
DTSTAMP:20260424T014558
CREATED:20240223T043600Z
LAST-MODIFIED:20240223T043600Z
UID:4402-1728889200-1728892800@broomenorthps.wa.edu.au
SUMMARY:Junior Brass Band
DESCRIPTION:
URL:https://broomenorthps.wa.edu.au/event/junior-brass-band-19/
CATEGORIES:4. Sports, Music and Academic events.
END:VEVENT
BEGIN:VEVENT
DTSTART;TZID=Australia/Perth:20241008T142000
DTEND;TZID=Australia/Perth:20241008T153000
DTSTAMP:20260424T014558
CREATED:20240223T031319Z
LAST-MODIFIED:20240223T031319Z
UID:4367-1728397200-1728401400@broomenorthps.wa.edu.au
SUMMARY:Senior Brass Band
DESCRIPTION:
URL:https://broomenorthps.wa.edu.au/event/senior-brass-band-27/
CATEGORIES:4. Sports, Music and Academic events.
END:VEVENT
BEGIN:VEVENT
DTSTART;TZID=Australia/Perth:20241008T072500
DTEND;TZID=Australia/Perth:20241008T080000
DTSTAMP:20260424T014558
CREATED:20240223T031229Z
LAST-MODIFIED:20240223T031229Z
UID:4365-1728372300-1728374400@broomenorthps.wa.edu.au
SUMMARY:Ryu Choir
DESCRIPTION:
URL:https://broomenorthps.wa.edu.au/event/ryu-choir-30/
CATEGORIES:4. Sports, Music and Academic events.
END:VEVENT
BEGIN:VEVENT
DTSTART;TZID=Australia/Perth:20241007T080000
DTEND;TZID=Australia/Perth:20241007T141000
DTSTAMP:20260424T014558
CREATED:20240223T031009Z
LAST-MODIFIED:20240223T031009Z
UID:4363-1728288000-1728310200@broomenorthps.wa.edu.au
SUMMARY:IMSS Lessons
DESCRIPTION:
URL:https://broomenorthps.wa.edu.au/event/imss-lessons-25/
CATEGORIES:4. Sports, Music and Academic events.
END:VEVENT
BEGIN:VEVENT
DTSTART;TZID=Australia/Perth:20241007T070000
DTEND;TZID=Australia/Perth:20241007T080000
DTSTAMP:20260424T014558
CREATED:20240223T030927Z
LAST-MODIFIED:20240223T030927Z
UID:4361-1728284400-1728288000@broomenorthps.wa.edu.au
SUMMARY:Junior Brass Band
DESCRIPTION:
URL:https://broomenorthps.wa.edu.au/event/junior-brass-band-18/
CATEGORIES:4. Sports, Music and Academic events.
END:VEVENT
BEGIN:VEVENT
DTSTART;TZID=Australia/Perth:20240918T080000
DTEND;TZID=Australia/Perth:20240918T141000
DTSTAMP:20260424T014558
CREATED:20240322T064403Z
LAST-MODIFIED:20240322T064403Z
UID:4714-1726646400-1726668600@broomenorthps.wa.edu.au
SUMMARY:Interschool Spelling Bee at Cable Beach PS
DESCRIPTION:
URL:https://broomenorthps.wa.edu.au/event/interschool-spelling-bee-at-cable-beach-ps-2/
CATEGORIES:4. Sports, Music and Academic events.
END:VEVENT
BEGIN:VEVENT
DTSTART;TZID=Australia/Perth:20240917T142000
DTEND;TZID=Australia/Perth:20240917T153000
DTSTAMP:20260424T014558
CREATED:20240223T025741Z
LAST-MODIFIED:20240223T025741Z
UID:4347-1726582800-1726587000@broomenorthps.wa.edu.au
SUMMARY:Senior Brass Band
DESCRIPTION:
URL:https://broomenorthps.wa.edu.au/event/senior-brass-band-26/
CATEGORIES:4. Sports, Music and Academic events.
END:VEVENT
BEGIN:VEVENT
DTSTART;TZID=Australia/Perth:20240917T072500
DTEND;TZID=Australia/Perth:20240917T080000
DTSTAMP:20260424T014558
CREATED:20240223T025644Z
LAST-MODIFIED:20240223T025644Z
UID:4345-1726557900-1726560000@broomenorthps.wa.edu.au
SUMMARY:Ryu Choir
DESCRIPTION:
URL:https://broomenorthps.wa.edu.au/event/ryu-choir-29/
CATEGORIES:4. Sports, Music and Academic events.
END:VEVENT
BEGIN:VEVENT
DTSTART;TZID=Australia/Perth:20240916T080000
DTEND;TZID=Australia/Perth:20240916T170000
DTSTAMP:20260424T014558
CREATED:20240829T064419Z
LAST-MODIFIED:20240829T064419Z
UID:5040-1726473600-1726506000@broomenorthps.wa.edu.au
SUMMARY:Year 3 Museum and Town Beach Incursion
DESCRIPTION:
URL:https://broomenorthps.wa.edu.au/event/year-3-museum-and-town-beach-incursion/
CATEGORIES:4. Sports, Music and Academic events.,5. Assemblies and Special Events
END:VEVENT
BEGIN:VEVENT
DTSTART;TZID=Australia/Perth:20240916T080000
DTEND;TZID=Australia/Perth:20240916T141000
DTSTAMP:20260424T014558
CREATED:20240223T025253Z
LAST-MODIFIED:20240223T025253Z
UID:4343-1726473600-1726495800@broomenorthps.wa.edu.au
SUMMARY:IMSS Lessons
DESCRIPTION:
URL:https://broomenorthps.wa.edu.au/event/imss-lessons-24/
CATEGORIES:4. Sports, Music and Academic events.
END:VEVENT
BEGIN:VEVENT
DTSTART;TZID=Australia/Perth:20240916T070000
DTEND;TZID=Australia/Perth:20240916T080000
DTSTAMP:20260424T014558
CREATED:20240223T025218Z
LAST-MODIFIED:20240223T025218Z
UID:4341-1726470000-1726473600@broomenorthps.wa.edu.au
SUMMARY:Junior Brass Band
DESCRIPTION:
URL:https://broomenorthps.wa.edu.au/event/junior-brass-band-17/
CATEGORIES:4. Sports, Music and Academic events.
END:VEVENT
BEGIN:VEVENT
DTSTART;TZID=Australia/Perth:20240910T141000
DTEND;TZID=Australia/Perth:20240910T153000
DTSTAMP:20260424T014558
CREATED:20240223T024215Z
LAST-MODIFIED:20240223T024216Z
UID:4326-1725977400-1725982200@broomenorthps.wa.edu.au
SUMMARY:Senior Brass Band
DESCRIPTION:
URL:https://broomenorthps.wa.edu.au/event/senior-brass-band-25/
CATEGORIES:4. Sports, Music and Academic events.
END:VEVENT
BEGIN:VEVENT
DTSTART;TZID=Australia/Perth:20240910T072500
DTEND;TZID=Australia/Perth:20240910T080000
DTSTAMP:20260424T014558
CREATED:20240223T024126Z
LAST-MODIFIED:20240223T024126Z
UID:4324-1725953100-1725955200@broomenorthps.wa.edu.au
SUMMARY:Ryu Choir
DESCRIPTION:
URL:https://broomenorthps.wa.edu.au/event/ryu-choir-28/
CATEGORIES:4. Sports, Music and Academic events.
END:VEVENT
BEGIN:VEVENT
DTSTART;TZID=Australia/Perth:20240909T080000
DTEND;TZID=Australia/Perth:20240909T141000
DTSTAMP:20260424T014558
CREATED:20240223T023643Z
LAST-MODIFIED:20240223T023643Z
UID:4322-1725868800-1725891000@broomenorthps.wa.edu.au
SUMMARY:IMSS Lessons
DESCRIPTION:
URL:https://broomenorthps.wa.edu.au/event/imss-lessons-23/
CATEGORIES:4. Sports, Music and Academic events.
END:VEVENT
END:VCALENDAR