BEGIN:VCALENDAR
VERSION:2.0
PRODID:-//Broome North Primary School - ECPv6.15.18//NONSGML v1.0//EN
CALSCALE:GREGORIAN
METHOD:PUBLISH
X-WR-CALNAME:Broome North Primary School
X-ORIGINAL-URL:https://broomenorthps.wa.edu.au
X-WR-CALDESC:Events for Broome North Primary School
REFRESH-INTERVAL;VALUE=DURATION:PT1H
X-Robots-Tag:noindex
X-PUBLISHED-TTL:PT1H
BEGIN:VTIMEZONE
TZID:Australia/Perth
BEGIN:STANDARD
TZOFFSETFROM:+0800
TZOFFSETTO:+0800
TZNAME:AWST
DTSTART:20230101T000000
END:STANDARD
END:VTIMEZONE
BEGIN:VEVENT
DTSTART;TZID=Australia/Perth:20240423T072500
DTEND;TZID=Australia/Perth:20240423T080000
DTSTAMP:20260424T131413
CREATED:20240219T045603Z
LAST-MODIFIED:20240219T045603Z
UID:3916-1713857100-1713859200@broomenorthps.wa.edu.au
SUMMARY:Ryu Choir
DESCRIPTION:
URL:https://broomenorthps.wa.edu.au/event/ryu-choir-10/
CATEGORIES:4. Sports, Music and Academic events.
END:VEVENT
BEGIN:VEVENT
DTSTART;TZID=Australia/Perth:20240422T080000
DTEND;TZID=Australia/Perth:20240422T141000
DTSTAMP:20260424T131413
CREATED:20240219T050121Z
LAST-MODIFIED:20240219T050121Z
UID:3920-1713772800-1713795000@broomenorthps.wa.edu.au
SUMMARY:IMSS Lessons
DESCRIPTION:For more information on our Brass Program\, please contact Music Specialist\, Hannah Trewartha: Hannah.Trewartha@education.wa.edu.au
URL:https://broomenorthps.wa.edu.au/event/imss-lessons-8/
CATEGORIES:4. Sports, Music and Academic events.
END:VEVENT
BEGIN:VEVENT
DTSTART;TZID=Australia/Perth:20240422T070000
DTEND;TZID=Australia/Perth:20240422T080000
DTSTAMP:20260424T131413
CREATED:20240219T050253Z
LAST-MODIFIED:20240219T050253Z
UID:3922-1713769200-1713772800@broomenorthps.wa.edu.au
SUMMARY:Junior Brass Band
DESCRIPTION:For more information on our Brass Program\, please contact Music Specialist\, Hannah Trewartha: Hannah.Trewartha@education.wa.edu.au
URL:https://broomenorthps.wa.edu.au/event/junior-brass-band/
CATEGORIES:4. Sports, Music and Academic events.
END:VEVENT
BEGIN:VEVENT
DTSTART;TZID=Australia/Perth:20240419T131000
DTEND;TZID=Australia/Perth:20240419T141000
DTSTAMP:20260424T131413
CREATED:20240219T052159Z
LAST-MODIFIED:20240219T052159Z
UID:3943-1713532200-1713535800@broomenorthps.wa.edu.au
SUMMARY:Senior Choir
DESCRIPTION:
URL:https://broomenorthps.wa.edu.au/event/senior-choir-10/
CATEGORIES:4. Sports, Music and Academic events.
END:VEVENT
BEGIN:VEVENT
DTSTART;TZID=Australia/Perth:20240419T131000
DTEND;TZID=Australia/Perth:20240419T141000
DTSTAMP:20260424T131413
CREATED:20240219T051943Z
LAST-MODIFIED:20240219T051943Z
UID:3939-1713532200-1713535800@broomenorthps.wa.edu.au
SUMMARY:Senior Choir
DESCRIPTION:
URL:https://broomenorthps.wa.edu.au/event/senior-choir-8/
CATEGORIES:4. Sports, Music and Academic events.
END:VEVENT
BEGIN:VEVENT
DTSTART;TZID=Australia/Perth:20240416T142000
DTEND;TZID=Australia/Perth:20240416T153000
DTSTAMP:20260424T131413
CREATED:20240219T043706Z
LAST-MODIFIED:20240219T043706Z
UID:3903-1713277200-1713281400@broomenorthps.wa.edu.au
SUMMARY:Senior Brass Band
DESCRIPTION:
URL:https://broomenorthps.wa.edu.au/event/senior-brass-band-8/
CATEGORIES:4. Sports, Music and Academic events.
END:VEVENT
BEGIN:VEVENT
DTSTART;TZID=Australia/Perth:20240416T072500
DTEND;TZID=Australia/Perth:20240416T080000
DTSTAMP:20260424T131413
CREATED:20240219T043613Z
LAST-MODIFIED:20240219T043613Z
UID:3901-1713252300-1713254400@broomenorthps.wa.edu.au
SUMMARY:Ryu Choir
DESCRIPTION:
URL:https://broomenorthps.wa.edu.au/event/ryu-choir-9/
CATEGORIES:4. Sports, Music and Academic events.
END:VEVENT
BEGIN:VEVENT
DTSTART;VALUE=DATE:20240327
DTEND;VALUE=DATE:20240328
DTSTAMP:20260424T131413
CREATED:20240219T023456Z
LAST-MODIFIED:20240219T023456Z
UID:3865-1711497600-1711583999@broomenorthps.wa.edu.au
SUMMARY:Garnduwa Basketball Carnival
DESCRIPTION:For more information on this Upper Primary event\, please contact our Sports Specialist\, Kellie Carder: Kellie.Carder@education.wa.edu.au
URL:https://broomenorthps.wa.edu.au/event/garnduwa-basketball-carnival/
CATEGORIES:4. Sports, Music and Academic events.
END:VEVENT
BEGIN:VEVENT
DTSTART;TZID=Australia/Perth:20240326T142000
DTEND;TZID=Australia/Perth:20240326T153000
DTSTAMP:20260424T131413
CREATED:20240219T013442Z
LAST-MODIFIED:20240219T013442Z
UID:3801-1711462800-1711467000@broomenorthps.wa.edu.au
SUMMARY:Senior Brass Band
DESCRIPTION:IMSS Senior Brass Band for participating students in Year 6 and High School
URL:https://broomenorthps.wa.edu.au/event/senior-brass-band-7/
CATEGORIES:4. Sports, Music and Academic events.
END:VEVENT
BEGIN:VEVENT
DTSTART;TZID=Australia/Perth:20240326T072500
DTEND;TZID=Australia/Perth:20240326T080000
DTSTAMP:20260424T131413
CREATED:20240219T012036Z
LAST-MODIFIED:20240219T012036Z
UID:3785-1711437900-1711440000@broomenorthps.wa.edu.au
SUMMARY:Ryu Choir
DESCRIPTION:Ryu Choir for selected students from Years 2 and 3 in the Music Room with Music Specialist\, Hannah Trewartha
URL:https://broomenorthps.wa.edu.au/event/ryu-choir-8/
CATEGORIES:4. Sports, Music and Academic events.
END:VEVENT
BEGIN:VEVENT
DTSTART;TZID=Australia/Perth:20240325T080000
DTEND;TZID=Australia/Perth:20240325T141000
DTSTAMP:20260424T131413
CREATED:20240219T005420Z
LAST-MODIFIED:20240219T005420Z
UID:3737-1711353600-1711375800@broomenorthps.wa.edu.au
SUMMARY:IMSS Lessons
DESCRIPTION:IMSS Lessons rostered on during school time for selected students from Years 5 and 6.  For further information\, please contact our Music Specialist\, Hannah Trewartha.  hannah.trewartha@education.wa.edu.au
URL:https://broomenorthps.wa.edu.au/event/imss-lessons-7/
CATEGORIES:4. Sports, Music and Academic events.
END:VEVENT
BEGIN:VEVENT
DTSTART;TZID=Australia/Perth:20240325T070000
DTEND;TZID=Australia/Perth:20240325T080000
DTSTAMP:20260424T131413
CREATED:20240219T005842Z
LAST-MODIFIED:20240219T005842Z
UID:3747-1711350000-1711353600@broomenorthps.wa.edu.au
SUMMARY:IMSS Jnr Brass Band
DESCRIPTION:
URL:https://broomenorthps.wa.edu.au/event/imss-jnr-brass-band-5/
CATEGORIES:4. Sports, Music and Academic events.
END:VEVENT
BEGIN:VEVENT
DTSTART;VALUE=DATE:20240325
DTEND;VALUE=DATE:20240326
DTSTAMP:20260424T131413
CREATED:20240219T022440Z
LAST-MODIFIED:20240219T022440Z
UID:3855-1711324800-1711411199@broomenorthps.wa.edu.au
SUMMARY:House Maths Comp nominations
DESCRIPTION:
URL:https://broomenorthps.wa.edu.au/event/house-maths-comp-nominations/
CATEGORIES:4. Sports, Music and Academic events.
END:VEVENT
BEGIN:VEVENT
DTSTART;TZID=Australia/Perth:20240322T131000
DTEND;TZID=Australia/Perth:20240322T141000
DTSTAMP:20260424T131413
CREATED:20240219T022034Z
LAST-MODIFIED:20240219T022034Z
UID:3853-1711113000-1711116600@broomenorthps.wa.edu.au
SUMMARY:Senior Choir
DESCRIPTION:
URL:https://broomenorthps.wa.edu.au/event/senior-choir-7/
CATEGORIES:4. Sports, Music and Academic events.
END:VEVENT
BEGIN:VEVENT
DTSTART;VALUE=DATE:20240322
DTEND;VALUE=DATE:20240323
DTSTAMP:20260424T131413
CREATED:20240219T022612Z
LAST-MODIFIED:20240219T022612Z
UID:3857-1711065600-1711151999@broomenorthps.wa.edu.au
SUMMARY:Interschool Swimming Carnival
DESCRIPTION:For more information\, please contact our Sports Specialist\, Kellie Carder: Kellie.Carder@education.wa.edu.au
URL:https://broomenorthps.wa.edu.au/event/interschool-swimming-carnival/
CATEGORIES:4. Sports, Music and Academic events.
END:VEVENT
BEGIN:VEVENT
DTSTART;TZID=Australia/Perth:20240319T142000
DTEND;TZID=Australia/Perth:20240319T153000
DTSTAMP:20260424T131413
CREATED:20240219T013344Z
LAST-MODIFIED:20240219T013344Z
UID:3799-1710858000-1710862200@broomenorthps.wa.edu.au
SUMMARY:Senior Brass Band
DESCRIPTION:IMSS Senior Brass Band for participating students in Year 6 and High School
URL:https://broomenorthps.wa.edu.au/event/senior-brass-band-6/
CATEGORIES:4. Sports, Music and Academic events.
END:VEVENT
BEGIN:VEVENT
DTSTART;TZID=Australia/Perth:20240319T072500
DTEND;TZID=Australia/Perth:20240319T080000
DTSTAMP:20260424T131413
CREATED:20240219T011951Z
LAST-MODIFIED:20240219T011951Z
UID:3783-1710833100-1710835200@broomenorthps.wa.edu.au
SUMMARY:Ryu Choir
DESCRIPTION:Ryu Choir for selected students from Years 2 and 3 in the Music Room with Music Specialist\, Hannah Trewartha
URL:https://broomenorthps.wa.edu.au/event/ryu-choir-7/
CATEGORIES:4. Sports, Music and Academic events.
END:VEVENT
BEGIN:VEVENT
DTSTART;TZID=Australia/Perth:20240318T080000
DTEND;TZID=Australia/Perth:20240318T141000
DTSTAMP:20260424T131413
CREATED:20240219T005239Z
LAST-MODIFIED:20240219T005239Z
UID:3735-1710748800-1710771000@broomenorthps.wa.edu.au
SUMMARY:IMSS Lessons
DESCRIPTION:IMSS Lessons rostered on during school time for selected students from Years 5 and 6.  For further information\, please contact our Music Specialist\, Hannah Trewartha.  hannah.trewartha@education.wa.edu.au
URL:https://broomenorthps.wa.edu.au/event/imss-lessons-6/
CATEGORIES:4. Sports, Music and Academic events.
END:VEVENT
BEGIN:VEVENT
DTSTART;TZID=Australia/Perth:20240318T070000
DTEND;TZID=Australia/Perth:20240318T080000
DTSTAMP:20260424T131413
CREATED:20240219T005756Z
LAST-MODIFIED:20240219T005756Z
UID:3745-1710745200-1710748800@broomenorthps.wa.edu.au
SUMMARY:IMSS Jnr Brass Band
DESCRIPTION:
URL:https://broomenorthps.wa.edu.au/event/imss-jnr-brass-band-4/
CATEGORIES:4. Sports, Music and Academic events.
END:VEVENT
BEGIN:VEVENT
DTSTART;VALUE=DATE:20240318
DTEND;VALUE=DATE:20240323
DTSTAMP:20260424T131413
CREATED:20240219T020436Z
LAST-MODIFIED:20240219T020436Z
UID:3833-1710720000-1711151999@broomenorthps.wa.edu.au
SUMMARY:NAPLAN
DESCRIPTION:NAPLAN Online testing window for students in Years 3 and 5
URL:https://broomenorthps.wa.edu.au/event/naplan-2/
CATEGORIES:4. Sports, Music and Academic events.
END:VEVENT
BEGIN:VEVENT
DTSTART;TZID=Australia/Perth:20240315T131000
DTEND;TZID=Australia/Perth:20240315T141000
DTSTAMP:20260424T131413
CREATED:20240219T021945Z
LAST-MODIFIED:20240219T021945Z
UID:3851-1710508200-1710511800@broomenorthps.wa.edu.au
SUMMARY:Senior Choir
DESCRIPTION:
URL:https://broomenorthps.wa.edu.au/event/senior-choir-6/
CATEGORIES:4. Sports, Music and Academic events.
END:VEVENT
BEGIN:VEVENT
DTSTART;VALUE=DATE:20240313
DTEND;VALUE=DATE:20240316
DTSTAMP:20260424T131413
CREATED:20240219T015632Z
LAST-MODIFIED:20240219T020401Z
UID:3831-1710288000-1710547199@broomenorthps.wa.edu.au
SUMMARY:NAPLAN
DESCRIPTION:NAPLAN Online testing window for students in Years 3 and 5
URL:https://broomenorthps.wa.edu.au/event/naplan/
CATEGORIES:4. Sports, Music and Academic events.
END:VEVENT
BEGIN:VEVENT
DTSTART;TZID=Australia/Perth:20240312T142000
DTEND;TZID=Australia/Perth:20240312T153000
DTSTAMP:20260424T131413
CREATED:20240219T013254Z
LAST-MODIFIED:20240219T013254Z
UID:3797-1710253200-1710257400@broomenorthps.wa.edu.au
SUMMARY:Senior Brass Band
DESCRIPTION:IMSS Senior Brass Band for participating students in Year 6 and High School
URL:https://broomenorthps.wa.edu.au/event/senior-brass-band-5/
CATEGORIES:4. Sports, Music and Academic events.
END:VEVENT
BEGIN:VEVENT
DTSTART;TZID=Australia/Perth:20240312T072500
DTEND;TZID=Australia/Perth:20240312T080000
DTSTAMP:20260424T131413
CREATED:20240219T011857Z
LAST-MODIFIED:20240219T011857Z
UID:3781-1710228300-1710230400@broomenorthps.wa.edu.au
SUMMARY:Ryu Choir
DESCRIPTION:Ryu Choir for selected students from Years 2 and 3 in the Music Room with Music Specialist\, Hannah Trewartha
URL:https://broomenorthps.wa.edu.au/event/ryu-choir-6/
CATEGORIES:4. Sports, Music and Academic events.
END:VEVENT
BEGIN:VEVENT
DTSTART;TZID=Australia/Perth:20240311T080000
DTEND;TZID=Australia/Perth:20240311T141000
DTSTAMP:20260424T131413
CREATED:20240219T005147Z
LAST-MODIFIED:20240219T005147Z
UID:3733-1710144000-1710166200@broomenorthps.wa.edu.au
SUMMARY:IMSS Lessons
DESCRIPTION:IMSS Lessons rostered on during school time for selected students from Years 5 and 6.  For further information\, please contact our Music Specialist\, Hannah Trewartha.  hannah.trewartha@education.wa.edu.au
URL:https://broomenorthps.wa.edu.au/event/imss-lessons-5/
CATEGORIES:4. Sports, Music and Academic events.
END:VEVENT
BEGIN:VEVENT
DTSTART;TZID=Australia/Perth:20240311T070000
DTEND;TZID=Australia/Perth:20240311T080000
DTSTAMP:20260424T131413
CREATED:20240219T005717Z
LAST-MODIFIED:20240219T005717Z
UID:3743-1710140400-1710144000@broomenorthps.wa.edu.au
SUMMARY:IMSS Jnr Brass Band
DESCRIPTION:
URL:https://broomenorthps.wa.edu.au/event/imss-jnr-brass-band-3/
CATEGORIES:4. Sports, Music and Academic events.
END:VEVENT
BEGIN:VEVENT
DTSTART;TZID=Australia/Perth:20240308T131000
DTEND;TZID=Australia/Perth:20240308T141000
DTSTAMP:20260424T131413
CREATED:20240219T021846Z
LAST-MODIFIED:20240219T021846Z
UID:3849-1709903400-1709907000@broomenorthps.wa.edu.au
SUMMARY:Senior Choir
DESCRIPTION:
URL:https://broomenorthps.wa.edu.au/event/senior-choir-5/
CATEGORIES:4. Sports, Music and Academic events.
END:VEVENT
BEGIN:VEVENT
DTSTART;TZID=Australia/Perth:20240305T142000
DTEND;TZID=Australia/Perth:20240305T153000
DTSTAMP:20260424T131413
CREATED:20240219T013211Z
LAST-MODIFIED:20240219T013211Z
UID:3795-1709648400-1709652600@broomenorthps.wa.edu.au
SUMMARY:Senior Brass Band
DESCRIPTION:IMSS Senior Brass Band for participating students in Year 6 and High School
URL:https://broomenorthps.wa.edu.au/event/senior-brass-band-4/
CATEGORIES:4. Sports, Music and Academic events.
END:VEVENT
BEGIN:VEVENT
DTSTART;TZID=Australia/Perth:20240305T072500
DTEND;TZID=Australia/Perth:20240305T080000
DTSTAMP:20260424T131413
CREATED:20240219T011807Z
LAST-MODIFIED:20240219T011807Z
UID:3779-1709623500-1709625600@broomenorthps.wa.edu.au
SUMMARY:Ryu Choir
DESCRIPTION:Ryu Choir for selected students from Years 2 and 3 in the Music Room with Music Specialist\, Hannah Trewartha
URL:https://broomenorthps.wa.edu.au/event/ryu-choir-5/
CATEGORIES:4. Sports, Music and Academic events.
END:VEVENT
BEGIN:VEVENT
DTSTART;TZID=Australia/Perth:20240301T131000
DTEND;TZID=Australia/Perth:20240301T141000
DTSTAMP:20260424T131413
CREATED:20240219T021803Z
LAST-MODIFIED:20240219T021803Z
UID:3847-1709298600-1709302200@broomenorthps.wa.edu.au
SUMMARY:Senior Choir
DESCRIPTION:
URL:https://broomenorthps.wa.edu.au/event/senior-choir-4/
CATEGORIES:4. Sports, Music and Academic events.
END:VEVENT
END:VCALENDAR