BEGIN:VCALENDAR
VERSION:2.0
PRODID:-//Broome North Primary School - ECPv6.15.18//NONSGML v1.0//EN
CALSCALE:GREGORIAN
METHOD:PUBLISH
X-ORIGINAL-URL:https://broomenorthps.wa.edu.au
X-WR-CALDESC:Events for Broome North Primary School
REFRESH-INTERVAL;VALUE=DURATION:PT1H
X-Robots-Tag:noindex
X-PUBLISHED-TTL:PT1H
BEGIN:VTIMEZONE
TZID:Australia/Perth
BEGIN:STANDARD
TZOFFSETFROM:+0800
TZOFFSETTO:+0800
TZNAME:AWST
DTSTART:20230101T000000
END:STANDARD
END:VTIMEZONE
BEGIN:VEVENT
DTSTART;TZID=Australia/Perth:20240528T072500
DTEND;TZID=Australia/Perth:20240528T080000
DTSTAMP:20260424T102631
CREATED:20240219T061814Z
LAST-MODIFIED:20240219T061814Z
UID:4023-1716881100-1716883200@broomenorthps.wa.edu.au
SUMMARY:Ryu Choir
DESCRIPTION:
URL:https://broomenorthps.wa.edu.au/event/ryu-choir-15/
CATEGORIES:4. Sports, Music and Academic events.
END:VEVENT
BEGIN:VEVENT
DTSTART;TZID=Australia/Perth:20240527T080000
DTEND;TZID=Australia/Perth:20240527T141000
DTSTAMP:20260424T102631
CREATED:20240219T061148Z
LAST-MODIFIED:20240219T061148Z
UID:4017-1716796800-1716819000@broomenorthps.wa.edu.au
SUMMARY:IMSS Lessons
DESCRIPTION:For more information on our Brass Program\, please contact Music Specialist\, Hannah Trewartha: Hannah.Trewartha@education.wa.edu.au
URL:https://broomenorthps.wa.edu.au/event/imss-lessons-12/
CATEGORIES:4. Sports, Music and Academic events.
END:VEVENT
BEGIN:VEVENT
DTSTART;TZID=Australia/Perth:20240527T070000
DTEND;TZID=Australia/Perth:20240527T080000
DTSTAMP:20260424T102631
CREATED:20240219T061725Z
LAST-MODIFIED:20240219T061725Z
UID:4021-1716793200-1716796800@broomenorthps.wa.edu.au
SUMMARY:Junior Brass Band
DESCRIPTION:For more information on our Brass Program\, please contact Music Specialist\, Hannah Trewartha: Hannah.Trewartha@education.wa.edu.au
URL:https://broomenorthps.wa.edu.au/event/junior-brass-band-5/
CATEGORIES:4. Sports, Music and Academic events.
END:VEVENT
BEGIN:VEVENT
DTSTART;TZID=Australia/Perth:20240524T131000
DTEND;TZID=Australia/Perth:20240524T141000
DTSTAMP:20260424T102631
CREATED:20240219T060511Z
LAST-MODIFIED:20240219T060511Z
UID:4009-1716556200-1716559800@broomenorthps.wa.edu.au
SUMMARY:Senior Choir
DESCRIPTION:
URL:https://broomenorthps.wa.edu.au/event/senior-choir-13/
CATEGORIES:4. Sports, Music and Academic events.
END:VEVENT
BEGIN:VEVENT
DTSTART;TZID=Australia/Perth:20240524T080000
DTEND;TZID=Australia/Perth:20240524T141000
DTSTAMP:20260424T102631
CREATED:20240219T060432Z
LAST-MODIFIED:20240523T065303Z
UID:4007-1716537600-1716559800@broomenorthps.wa.edu.au
SUMMARY:Broome Football and Netball Carnival
DESCRIPTION:Broome Football and Netball Carnival for selected students in Years 5 and 6.  For more information\, please contact Sports Specialist\, Kellie Carder: Kellie.Carder@education.wa.edu.au
URL:https://broomenorthps.wa.edu.au/event/broome-football-and-netball-carnival/
CATEGORIES:4. Sports, Music and Academic events.
END:VEVENT
BEGIN:VEVENT
DTSTART;TZID=Australia/Perth:20240521T142000
DTEND;TZID=Australia/Perth:20240521T153000
DTSTAMP:20260424T102631
CREATED:20240219T055851Z
LAST-MODIFIED:20240219T055851Z
UID:3997-1716301200-1716305400@broomenorthps.wa.edu.au
SUMMARY:Senior Brass Band
DESCRIPTION:
URL:https://broomenorthps.wa.edu.au/event/senior-brass-band-11/
CATEGORIES:4. Sports, Music and Academic events.
END:VEVENT
BEGIN:VEVENT
DTSTART;TZID=Australia/Perth:20240521T072500
DTEND;TZID=Australia/Perth:20240521T080000
DTSTAMP:20260424T102631
CREATED:20240219T055628Z
LAST-MODIFIED:20240219T055628Z
UID:3995-1716276300-1716278400@broomenorthps.wa.edu.au
SUMMARY:Ryu Choir
DESCRIPTION:
URL:https://broomenorthps.wa.edu.au/event/ryu-choir-14/
CATEGORIES:4. Sports, Music and Academic events.
END:VEVENT
BEGIN:VEVENT
DTSTART;TZID=Australia/Perth:20240520T080000
DTEND;TZID=Australia/Perth:20240520T141000
DTSTAMP:20260424T102631
CREATED:20240219T054948Z
LAST-MODIFIED:20240219T054948Z
UID:3992-1716192000-1716214200@broomenorthps.wa.edu.au
SUMMARY:IMSS Lessons
DESCRIPTION:For more information on our Brass Program\, please contact Music Specialist\, Hannah Trewartha: Hannah.Trewartha@education.wa.edu.au
URL:https://broomenorthps.wa.edu.au/event/imss-lessons-11/
CATEGORIES:4. Sports, Music and Academic events.
END:VEVENT
BEGIN:VEVENT
DTSTART;TZID=Australia/Perth:20240520T070000
DTEND;TZID=Australia/Perth:20240520T080000
DTSTAMP:20260424T102631
CREATED:20240219T054905Z
LAST-MODIFIED:20240219T054905Z
UID:3990-1716188400-1716192000@broomenorthps.wa.edu.au
SUMMARY:Junior Brass Band
DESCRIPTION:For more information on our Brass Program\, please contact Music Specialist\, Hannah Trewartha: Hannah.Trewartha@education.wa.edu.au
URL:https://broomenorthps.wa.edu.au/event/junior-brass-band-4/
CATEGORIES:4. Sports, Music and Academic events.
END:VEVENT
BEGIN:VEVENT
DTSTART;TZID=Australia/Perth:20240517T131000
DTEND;TZID=Australia/Perth:20240517T141000
DTSTAMP:20260424T102631
CREATED:20240219T054711Z
LAST-MODIFIED:20240219T054711Z
UID:3986-1715951400-1715955000@broomenorthps.wa.edu.au
SUMMARY:Senior Choir
DESCRIPTION:
URL:https://broomenorthps.wa.edu.au/event/senior-choir-12/
CATEGORIES:4. Sports, Music and Academic events.
END:VEVENT
BEGIN:VEVENT
DTSTART;TZID=Australia/Perth:20240514T142000
DTEND;TZID=Australia/Perth:20240514T153000
DTSTAMP:20260424T102631
CREATED:20240219T054434Z
LAST-MODIFIED:20240219T054434Z
UID:3980-1715696400-1715700600@broomenorthps.wa.edu.au
SUMMARY:Senior Brass Band
DESCRIPTION:For more information on our Brass Program\, please contact Music Specialist\, Hannah Trewartha: Hannah.Trewartha@education.wa.edu.au
URL:https://broomenorthps.wa.edu.au/event/senior-brass-band-10/
CATEGORIES:4. Sports, Music and Academic events.
END:VEVENT
BEGIN:VEVENT
DTSTART;TZID=Australia/Perth:20240514T072500
DTEND;TZID=Australia/Perth:20240514T080000
DTSTAMP:20260424T102631
CREATED:20240219T054349Z
LAST-MODIFIED:20240219T054349Z
UID:3978-1715671500-1715673600@broomenorthps.wa.edu.au
SUMMARY:Ryu Choir
DESCRIPTION:
URL:https://broomenorthps.wa.edu.au/event/ryu-choir-13/
CATEGORIES:4. Sports, Music and Academic events.
END:VEVENT
BEGIN:VEVENT
DTSTART;TZID=Australia/Perth:20240513T080000
DTEND;TZID=Australia/Perth:20240513T141000
DTSTAMP:20260424T102631
CREATED:20240219T054226Z
LAST-MODIFIED:20240219T054226Z
UID:3974-1715587200-1715609400@broomenorthps.wa.edu.au
SUMMARY:IMSS Lessons
DESCRIPTION:
URL:https://broomenorthps.wa.edu.au/event/imss-lessons-10/
CATEGORIES:4. Sports, Music and Academic events.
END:VEVENT
BEGIN:VEVENT
DTSTART;TZID=Australia/Perth:20240513T070000
DTEND;TZID=Australia/Perth:20240513T080000
DTSTAMP:20260424T102631
CREATED:20240219T054311Z
LAST-MODIFIED:20240219T054311Z
UID:3976-1715583600-1715587200@broomenorthps.wa.edu.au
SUMMARY:Junior Brass Band
DESCRIPTION:For more information on our Brass Program\, please contact Music Specialist\, Hannah Trewartha: Hannah.Trewartha@education.wa.edu.au
URL:https://broomenorthps.wa.edu.au/event/junior-brass-band-3/
CATEGORIES:4. Sports, Music and Academic events.
END:VEVENT
BEGIN:VEVENT
DTSTART;TZID=Australia/Perth:20240510T131000
DTEND;TZID=Australia/Perth:20240510T141000
DTSTAMP:20260424T102631
CREATED:20240219T053944Z
LAST-MODIFIED:20240219T053944Z
UID:3968-1715346600-1715350200@broomenorthps.wa.edu.au
SUMMARY:Senior Choir
DESCRIPTION:
URL:https://broomenorthps.wa.edu.au/event/senior-choir-11/
CATEGORIES:4. Sports, Music and Academic events.
END:VEVENT
BEGIN:VEVENT
DTSTART;TZID=Australia/Perth:20240510T080000
DTEND;TZID=Australia/Perth:20240510T141000
DTSTAMP:20260424T102631
CREATED:20240219T053633Z
LAST-MODIFIED:20240219T053813Z
UID:3962-1715328000-1715350200@broomenorthps.wa.edu.au
SUMMARY:House Cross Country
DESCRIPTION:For more information on this event\, please contact our Sports Specialist\, Kellie Carder: Kellie.Carder@education.wa.edu.au
URL:https://broomenorthps.wa.edu.au/event/house-cross-country/
CATEGORIES:4. Sports, Music and Academic events.
END:VEVENT
BEGIN:VEVENT
DTSTART;TZID=Australia/Perth:20240507T072500
DTEND;TZID=Australia/Perth:20240507T080000
DTSTAMP:20260424T102631
CREATED:20240219T053234Z
LAST-MODIFIED:20240219T053234Z
UID:3957-1715066700-1715068800@broomenorthps.wa.edu.au
SUMMARY:Ryu Choir
DESCRIPTION:Please contact Music Specialist\, Hannah Trewartha: Hannah.Trewartha@education.wa.edu.au
URL:https://broomenorthps.wa.edu.au/event/ryu-choir-12/
CATEGORIES:4. Sports, Music and Academic events.
END:VEVENT
BEGIN:VEVENT
DTSTART;TZID=Australia/Perth:20240503T131000
DTEND;TZID=Australia/Perth:20240503T141000
DTSTAMP:20260424T102631
CREATED:20240219T052049Z
LAST-MODIFIED:20240219T052049Z
UID:3941-1714741800-1714745400@broomenorthps.wa.edu.au
SUMMARY:Senior Choir
DESCRIPTION:
URL:https://broomenorthps.wa.edu.au/event/senior-choir-9/
CATEGORIES:4. Sports, Music and Academic events.
END:VEVENT
BEGIN:VEVENT
DTSTART;TZID=Australia/Perth:20240502T080000
DTEND;TZID=Australia/Perth:20240502T141000
DTSTAMP:20260424T102631
CREATED:20240219T051035Z
LAST-MODIFIED:20240219T051035Z
UID:3932-1714636800-1714659000@broomenorthps.wa.edu.au
SUMMARY:BNPS Interschool Maths Competition
DESCRIPTION:
URL:https://broomenorthps.wa.edu.au/event/bnps-interschool-maths-competition/
CATEGORIES:4. Sports, Music and Academic events.
END:VEVENT
BEGIN:VEVENT
DTSTART;TZID=Australia/Perth:20240430T072500
DTEND;TZID=Australia/Perth:20240430T080000
DTSTAMP:20260424T102631
CREATED:20240219T050742Z
LAST-MODIFIED:20240219T050742Z
UID:3928-1714461900-1714464000@broomenorthps.wa.edu.au
SUMMARY:Ryu Choir
DESCRIPTION:
URL:https://broomenorthps.wa.edu.au/event/ryu-choir-11/
CATEGORIES:4. Sports, Music and Academic events.
END:VEVENT
BEGIN:VEVENT
DTSTART;TZID=Australia/Perth:20240429T080000
DTEND;TZID=Australia/Perth:20240429T141000
DTSTAMP:20260424T102631
CREATED:20240219T050618Z
LAST-MODIFIED:20240219T050618Z
UID:3926-1714377600-1714399800@broomenorthps.wa.edu.au
SUMMARY:IMSS Lessons
DESCRIPTION:For more information on our Brass Program\, please contact Music Specialist\, Hannah Trewartha: Hannah.Trewartha@education.wa.edu.au
URL:https://broomenorthps.wa.edu.au/event/imss-lessons-9/
CATEGORIES:4. Sports, Music and Academic events.
END:VEVENT
BEGIN:VEVENT
DTSTART;TZID=Australia/Perth:20240429T070000
DTEND;TZID=Australia/Perth:20240429T080000
DTSTAMP:20260424T102631
CREATED:20240219T050411Z
LAST-MODIFIED:20240219T050411Z
UID:3924-1714374000-1714377600@broomenorthps.wa.edu.au
SUMMARY:Junior Brass Band
DESCRIPTION:For more information on our Brass Program\, please contact Music Specialist\, Hannah Trewartha: Hannah.Trewartha@education.wa.edu.au
URL:https://broomenorthps.wa.edu.au/event/junior-brass-band-2/
CATEGORIES:4. Sports, Music and Academic events.
END:VEVENT
BEGIN:VEVENT
DTSTART;TZID=Australia/Perth:20240424T080000
DTEND;TZID=Australia/Perth:20240424T141000
DTSTAMP:20260424T102631
CREATED:20240219T045434Z
LAST-MODIFIED:20240219T045434Z
UID:3912-1713945600-1713967800@broomenorthps.wa.edu.au
SUMMARY:House Maths Comp
DESCRIPTION:
URL:https://broomenorthps.wa.edu.au/event/house-maths-comp/
CATEGORIES:4. Sports, Music and Academic events.
END:VEVENT
BEGIN:VEVENT
DTSTART;TZID=Australia/Perth:20240423T141000
DTEND;TZID=Australia/Perth:20240423T153000
DTSTAMP:20260424T102632
CREATED:20240219T045851Z
LAST-MODIFIED:20240219T045851Z
UID:3918-1713881400-1713886200@broomenorthps.wa.edu.au
SUMMARY:Senior Brass Band
DESCRIPTION:
URL:https://broomenorthps.wa.edu.au/event/senior-brass-band-9/
CATEGORIES:4. Sports, Music and Academic events.
END:VEVENT
BEGIN:VEVENT
DTSTART;TZID=Australia/Perth:20240423T072500
DTEND;TZID=Australia/Perth:20240423T080000
DTSTAMP:20260424T102632
CREATED:20240219T045603Z
LAST-MODIFIED:20240219T045603Z
UID:3916-1713857100-1713859200@broomenorthps.wa.edu.au
SUMMARY:Ryu Choir
DESCRIPTION:
URL:https://broomenorthps.wa.edu.au/event/ryu-choir-10/
CATEGORIES:4. Sports, Music and Academic events.
END:VEVENT
BEGIN:VEVENT
DTSTART;TZID=Australia/Perth:20240422T080000
DTEND;TZID=Australia/Perth:20240422T141000
DTSTAMP:20260424T102632
CREATED:20240219T050121Z
LAST-MODIFIED:20240219T050121Z
UID:3920-1713772800-1713795000@broomenorthps.wa.edu.au
SUMMARY:IMSS Lessons
DESCRIPTION:For more information on our Brass Program\, please contact Music Specialist\, Hannah Trewartha: Hannah.Trewartha@education.wa.edu.au
URL:https://broomenorthps.wa.edu.au/event/imss-lessons-8/
CATEGORIES:4. Sports, Music and Academic events.
END:VEVENT
BEGIN:VEVENT
DTSTART;TZID=Australia/Perth:20240422T070000
DTEND;TZID=Australia/Perth:20240422T080000
DTSTAMP:20260424T102632
CREATED:20240219T050253Z
LAST-MODIFIED:20240219T050253Z
UID:3922-1713769200-1713772800@broomenorthps.wa.edu.au
SUMMARY:Junior Brass Band
DESCRIPTION:For more information on our Brass Program\, please contact Music Specialist\, Hannah Trewartha: Hannah.Trewartha@education.wa.edu.au
URL:https://broomenorthps.wa.edu.au/event/junior-brass-band/
CATEGORIES:4. Sports, Music and Academic events.
END:VEVENT
BEGIN:VEVENT
DTSTART;TZID=Australia/Perth:20240419T131000
DTEND;TZID=Australia/Perth:20240419T141000
DTSTAMP:20260424T102632
CREATED:20240219T052159Z
LAST-MODIFIED:20240219T052159Z
UID:3943-1713532200-1713535800@broomenorthps.wa.edu.au
SUMMARY:Senior Choir
DESCRIPTION:
URL:https://broomenorthps.wa.edu.au/event/senior-choir-10/
CATEGORIES:4. Sports, Music and Academic events.
END:VEVENT
BEGIN:VEVENT
DTSTART;TZID=Australia/Perth:20240419T131000
DTEND;TZID=Australia/Perth:20240419T141000
DTSTAMP:20260424T102632
CREATED:20240219T051943Z
LAST-MODIFIED:20240219T051943Z
UID:3939-1713532200-1713535800@broomenorthps.wa.edu.au
SUMMARY:Senior Choir
DESCRIPTION:
URL:https://broomenorthps.wa.edu.au/event/senior-choir-8/
CATEGORIES:4. Sports, Music and Academic events.
END:VEVENT
BEGIN:VEVENT
DTSTART;TZID=Australia/Perth:20240416T142000
DTEND;TZID=Australia/Perth:20240416T153000
DTSTAMP:20260424T102632
CREATED:20240219T043706Z
LAST-MODIFIED:20240219T043706Z
UID:3903-1713277200-1713281400@broomenorthps.wa.edu.au
SUMMARY:Senior Brass Band
DESCRIPTION:
URL:https://broomenorthps.wa.edu.au/event/senior-brass-band-8/
CATEGORIES:4. Sports, Music and Academic events.
END:VEVENT
END:VCALENDAR