BEGIN:VCALENDAR
VERSION:2.0
PRODID:-//Broome North Primary School - ECPv6.15.18//NONSGML v1.0//EN
CALSCALE:GREGORIAN
METHOD:PUBLISH
X-ORIGINAL-URL:https://broomenorthps.wa.edu.au
X-WR-CALDESC:Events for Broome North Primary School
REFRESH-INTERVAL;VALUE=DURATION:PT1H
X-Robots-Tag:noindex
X-PUBLISHED-TTL:PT1H
BEGIN:VTIMEZONE
TZID:Australia/Perth
BEGIN:STANDARD
TZOFFSETFROM:+0800
TZOFFSETTO:+0800
TZNAME:AWST
DTSTART:20220101T000000
END:STANDARD
END:VTIMEZONE
BEGIN:VEVENT
DTSTART;TZID=Australia/Perth:20240821T124000
DTEND;TZID=Australia/Perth:20240821T130000
DTSTAMP:20260423T220323
CREATED:20240223T005452Z
LAST-MODIFIED:20240223T005452Z
UID:4260-1724244000-1724245200@broomenorthps.wa.edu.au
SUMMARY:Pizza with the Principal
DESCRIPTION:Students who visit Mr Molyneux with their good work go into the draw to win Pizza with the Principal.  6 winners are drawn at each assembly\, for lunch the following week.
URL:https://broomenorthps.wa.edu.au/event/pizza-with-the-principal-15/
CATEGORIES:6. PBIS
END:VEVENT
BEGIN:VEVENT
DTSTART;TZID=Australia/Perth:20240816T133000
DTEND;TZID=Australia/Perth:20240816T141000
DTSTAMP:20260423T220323
CREATED:20240223T005240Z
LAST-MODIFIED:20240223T005240Z
UID:4258-1723815000-1723817400@broomenorthps.wa.edu.au
SUMMARY:Besties Bonanza
DESCRIPTION:Besties Bonanza: Winners selected for their good behaviour from today’s assembly meet in the Library after lunch for reward play.
URL:https://broomenorthps.wa.edu.au/event/besties-bonanza-10/
CATEGORIES:6. PBIS
END:VEVENT
BEGIN:VEVENT
DTSTART;TZID=Australia/Perth:20240731T124000
DTEND;TZID=Australia/Perth:20240731T130000
DTSTAMP:20260423T220323
CREATED:20240220T065732Z
LAST-MODIFIED:20240220T065732Z
UID:4191-1722429600-1722430800@broomenorthps.wa.edu.au
SUMMARY:Pizza with the Principal
DESCRIPTION:Students who visit Mr Molyneux with their good work go into the draw to win Pizza with the Principal.  6 winners are drawn at each assembly\, for lunch the following week.
URL:https://broomenorthps.wa.edu.au/event/pizza-with-the-principal-14/
CATEGORIES:6. PBIS
END:VEVENT
BEGIN:VEVENT
DTSTART;TZID=Australia/Perth:20240726T133000
DTEND;TZID=Australia/Perth:20240726T141000
DTSTAMP:20260423T220323
CREATED:20240220T065328Z
LAST-MODIFIED:20240220T065328Z
UID:4187-1722000600-1722003000@broomenorthps.wa.edu.au
SUMMARY:Besties Bonanza
DESCRIPTION:Besties Bonanza: Winners selected for their good behaviour from today’s assembly meet in the Library after lunch for reward play.
URL:https://broomenorthps.wa.edu.au/event/besties-bonanza-9/
CATEGORIES:6. PBIS
END:VEVENT
BEGIN:VEVENT
DTSTART;TZID=Australia/Perth:20240626T124000
DTEND;TZID=Australia/Perth:20240626T130000
DTSTAMP:20260423T220323
CREATED:20240220T055003Z
LAST-MODIFIED:20240220T055003Z
UID:4096-1719405600-1719406800@broomenorthps.wa.edu.au
SUMMARY:Pizza with the Principal
DESCRIPTION:Students who visit Mr Molyneux with their good work go into the draw to win Pizza with the Principal.  6 winners are drawn at assembly\, for lunch the following week.
URL:https://broomenorthps.wa.edu.au/event/pizza-with-the-principal-13/
CATEGORIES:6. PBIS
END:VEVENT
BEGIN:VEVENT
DTSTART;TZID=Australia/Perth:20240621T133000
DTEND;TZID=Australia/Perth:20240621T141000
DTSTAMP:20260423T220323
CREATED:20240220T054858Z
LAST-MODIFIED:20240220T054858Z
UID:4094-1718976600-1718979000@broomenorthps.wa.edu.au
SUMMARY:Besties Bonanza
DESCRIPTION:Besties Bonanza: Winners selected for their good behaviour from today’s assembly meet in the Library after lunch for reward play.
URL:https://broomenorthps.wa.edu.au/event/besties-bonanza-8/
CATEGORIES:6. PBIS
END:VEVENT
BEGIN:VEVENT
DTSTART;TZID=Australia/Perth:20240612T124000
DTEND;TZID=Australia/Perth:20240612T130000
DTSTAMP:20260423T220323
CREATED:20240219T063846Z
LAST-MODIFIED:20240219T063846Z
UID:4059-1718196000-1718197200@broomenorthps.wa.edu.au
SUMMARY:Pizza with the Principal
DESCRIPTION:Students who visit Mr Molyneux with their good work go into the draw to win Pizza with the Principal.  6 winners are drawn at assembly\, for lunch the following week.
URL:https://broomenorthps.wa.edu.au/event/pizza-with-the-principal-12/
CATEGORIES:6. PBIS
END:VEVENT
BEGIN:VEVENT
DTSTART;TZID=Australia/Perth:20240607T133000
DTEND;TZID=Australia/Perth:20240607T141000
DTSTAMP:20260423T220323
CREATED:20240219T063714Z
LAST-MODIFIED:20240219T063714Z
UID:4057-1717767000-1717769400@broomenorthps.wa.edu.au
SUMMARY:Besties Bonanza
DESCRIPTION:Besties Bonanza: Winners selected for their good behaviour from today’s assembly meet in the Library after lunch for reward play.
URL:https://broomenorthps.wa.edu.au/event/besties-bonanza-7/
CATEGORIES:6. PBIS
END:VEVENT
BEGIN:VEVENT
DTSTART;TZID=Australia/Perth:20240529T124000
DTEND;TZID=Australia/Perth:20240529T130000
DTSTAMP:20260423T220323
CREATED:20240219T062010Z
LAST-MODIFIED:20240219T062010Z
UID:4027-1716986400-1716987600@broomenorthps.wa.edu.au
SUMMARY:Pizza with the Principal
DESCRIPTION:Students who visit Mr Molyneux with their good work go into the draw to win Pizza with the Principal.  6 winners are drawn at each assembly\, for lunch the following week.
URL:https://broomenorthps.wa.edu.au/event/pizza-with-the-principal-11/
CATEGORIES:6. PBIS
END:VEVENT
BEGIN:VEVENT
DTSTART;TZID=Australia/Perth:20240524T133000
DTEND;TZID=Australia/Perth:20240524T141000
DTSTAMP:20260423T220323
CREATED:20240219T061610Z
LAST-MODIFIED:20240219T061610Z
UID:4019-1716557400-1716559800@broomenorthps.wa.edu.au
SUMMARY:Besties Bonanza
DESCRIPTION:Besties Bonanza: Winners selected for their good behaviour from today’s assembly meet in the Library after lunch for reward play.
URL:https://broomenorthps.wa.edu.au/event/besties-bonanza-6/
CATEGORIES:6. PBIS
END:VEVENT
BEGIN:VEVENT
DTSTART;TZID=Australia/Perth:20240508T124000
DTEND;TZID=Australia/Perth:20240508T130000
DTSTAMP:20260423T220323
CREATED:20240219T053350Z
LAST-MODIFIED:20240219T053427Z
UID:3959-1715172000-1715173200@broomenorthps.wa.edu.au
SUMMARY:Pizza with the Principal
DESCRIPTION:Students who visit Mr Molyneux with their good work go into the draw to win Pizza with the Principal.  6 winners are drawn at assembly\, for lunch the following week.
URL:https://broomenorthps.wa.edu.au/event/pizza-with-the-principal-10/
CATEGORIES:6. PBIS
END:VEVENT
BEGIN:VEVENT
DTSTART;TZID=Australia/Perth:20240503T133000
DTEND;TZID=Australia/Perth:20240503T141000
DTSTAMP:20260423T220323
CREATED:20240219T051621Z
LAST-MODIFIED:20240219T051621Z
UID:3937-1714743000-1714745400@broomenorthps.wa.edu.au
SUMMARY:Besties Bonanza
DESCRIPTION:
URL:https://broomenorthps.wa.edu.au/event/besties-bonanza-5/
CATEGORIES:6. PBIS
END:VEVENT
BEGIN:VEVENT
DTSTART;TZID=Australia/Perth:20240328T105000
DTEND;TZID=Australia/Perth:20240328T124000
DTSTAMP:20260423T220323
CREATED:20240321T061857Z
LAST-MODIFIED:20240321T062008Z
UID:4710-1711623000-1711629600@broomenorthps.wa.edu.au
SUMMARY:PBS Reward: Water Play
DESCRIPTION:PBS Reward: Water Play \nYear 1 – 6 Students will participate in a special reward water play on the oval for up to 40 minutes for reaching their target of 100 000 Besties this term.   They may wish to bring a rashie and towel or change of clothes and wet bag.  Kindy and Pre-primary students will have their own reward play in the early childhood play area.
URL:https://broomenorthps.wa.edu.au/event/pbs-reward-water-play/
CATEGORIES:6. PBIS
END:VEVENT
BEGIN:VEVENT
DTSTART;TZID=Australia/Perth:20240326T124000
DTEND;TZID=Australia/Perth:20240326T130000
DTSTAMP:20260423T220323
CREATED:20240219T020907Z
LAST-MODIFIED:20240219T020907Z
UID:3839-1711456800-1711458000@broomenorthps.wa.edu.au
SUMMARY:Pizza with the Principal
DESCRIPTION:Students who visit Mr Molyneux with their good work go into the draw to win Pizza with the Principal.  6 winners are drawn at assembly\, for lunch the following week.
URL:https://broomenorthps.wa.edu.au/event/pizza-with-the-principal-9/
CATEGORIES:6. PBIS
END:VEVENT
BEGIN:VEVENT
DTSTART;TZID=Australia/Perth:20240322T133000
DTEND;TZID=Australia/Perth:20240322T141000
DTSTAMP:20260423T220323
CREATED:20240219T014813Z
LAST-MODIFIED:20240219T014813Z
UID:3817-1711114200-1711116600@broomenorthps.wa.edu.au
SUMMARY:Besties Bonanza
DESCRIPTION:Besties Bonanza: Winners selected for their good behaviour from today’s assembly meet in the Library after lunch for reward play.
URL:https://broomenorthps.wa.edu.au/event/besties-bonanza-4/
CATEGORIES:6. PBIS
END:VEVENT
BEGIN:VEVENT
DTSTART;TZID=Australia/Perth:20240313T124000
DTEND;TZID=Australia/Perth:20240313T130000
DTSTAMP:20260423T220323
CREATED:20240219T020816Z
LAST-MODIFIED:20240219T020816Z
UID:3837-1710333600-1710334800@broomenorthps.wa.edu.au
SUMMARY:Pizza with the Principal
DESCRIPTION:Students who visit Mr Molyneux with their good work go into the draw to win Pizza with the Principal.  6 winners are drawn at assembly\, for lunch the following week.
URL:https://broomenorthps.wa.edu.au/event/pizza-with-the-principal-8/
CATEGORIES:6. PBIS
END:VEVENT
BEGIN:VEVENT
DTSTART;TZID=Australia/Perth:20240308T133000
DTEND;TZID=Australia/Perth:20240308T141000
DTSTAMP:20260423T220323
CREATED:20240219T014723Z
LAST-MODIFIED:20240219T014723Z
UID:3815-1709904600-1709907000@broomenorthps.wa.edu.au
SUMMARY:Besties Bonanza
DESCRIPTION:Besties Bonanza: Winners selected for their good behaviour from today’s assembly meet in the Library after lunch for reward play.
URL:https://broomenorthps.wa.edu.au/event/besties-bonanza-3/
CATEGORIES:6. PBIS
END:VEVENT
BEGIN:VEVENT
DTSTART;TZID=Australia/Perth:20240228T124000
DTEND;TZID=Australia/Perth:20240228T130000
DTSTAMP:20260423T220323
CREATED:20240219T020723Z
LAST-MODIFIED:20240219T020723Z
UID:3835-1709124000-1709125200@broomenorthps.wa.edu.au
SUMMARY:Pizza with the Principal
DESCRIPTION:Students who visit Mr Molyneux with their good work go into the draw to win Pizza with the Principal.  6 winners are drawn at assembly\, for lunch the following week.
URL:https://broomenorthps.wa.edu.au/event/pizza-with-the-principal-7/
CATEGORIES:6. PBIS
END:VEVENT
BEGIN:VEVENT
DTSTART;TZID=Australia/Perth:20231130T124000
DTEND;TZID=Australia/Perth:20231130T130000
DTSTAMP:20260423T220323
CREATED:20230526T034542Z
LAST-MODIFIED:20230526T034735Z
UID:2865-1701348000-1701349200@broomenorthps.wa.edu.au
SUMMARY:Pizza with the Principal
DESCRIPTION:Twice a term\, 6 students are chosen for their good work to have pizza with our Principal\, Ken Molyneux.  Parents are notified by SMS a few days before.
URL:https://broomenorthps.wa.edu.au/event/pizza-with-the-principal/
CATEGORIES:6. PBIS
END:VEVENT
BEGIN:VEVENT
DTSTART;TZID=Australia/Perth:20231103T124000
DTEND;TZID=Australia/Perth:20231103T130000
DTSTAMP:20260423T220323
CREATED:20230526T035125Z
LAST-MODIFIED:20231105T233336Z
UID:2867-1699015200-1699016400@broomenorthps.wa.edu.au
SUMMARY:Pizza with the Principal
DESCRIPTION:
URL:https://broomenorthps.wa.edu.au/event/pizza-with-the-principal-2/
CATEGORIES:6. PBIS
END:VEVENT
BEGIN:VEVENT
DTSTART;TZID=Australia/Perth:20230921T124000
DTEND;TZID=Australia/Perth:20230921T130000
DTSTAMP:20260423T220323
CREATED:20230526T035744Z
LAST-MODIFIED:20230526T035744Z
UID:2869-1695300000-1695301200@broomenorthps.wa.edu.au
SUMMARY:Pizza with the Principal
DESCRIPTION:
URL:https://broomenorthps.wa.edu.au/event/pizza-with-the-principal-3/
CATEGORIES:6. PBIS
END:VEVENT
BEGIN:VEVENT
DTSTART;TZID=Australia/Perth:20230831T124000
DTEND;TZID=Australia/Perth:20230831T130000
DTSTAMP:20260423T220323
CREATED:20230526T035829Z
LAST-MODIFIED:20230801T051053Z
UID:2871-1693485600-1693486800@broomenorthps.wa.edu.au
SUMMARY:Pizza with the Principal
DESCRIPTION:
URL:https://broomenorthps.wa.edu.au/event/pizza-with-the-principal-4/
CATEGORIES:6. PBIS
END:VEVENT
BEGIN:VEVENT
DTSTART;TZID=Australia/Perth:20230804T133000
DTEND;TZID=Australia/Perth:20230804T140000
DTSTAMP:20260423T220323
CREATED:20230801T050007Z
LAST-MODIFIED:20230801T050007Z
UID:3297-1691155800-1691157600@broomenorthps.wa.edu.au
SUMMARY:Besties Bonanza
DESCRIPTION:
URL:https://broomenorthps.wa.edu.au/event/besties-bonanza/
CATEGORIES:6. PBIS
END:VEVENT
BEGIN:VEVENT
DTSTART;VALUE=DATE:20230626
DTEND;VALUE=DATE:20230701
DTSTAMP:20260423T220323
CREATED:20230615T061003Z
LAST-MODIFIED:20230615T061003Z
UID:3254-1687737600-1688169599@broomenorthps.wa.edu.au
SUMMARY:Whole School Positive Behaviour Focus:  Take care of school environment and equipment. (We are respectful and responsible)
DESCRIPTION:
URL:https://broomenorthps.wa.edu.au/event/whole-school-positive-behaviour-focus-take-care-of-school-environment-and-equipment-we-are-respectful-and-responsible/
CATEGORIES:6. PBIS
END:VEVENT
BEGIN:VEVENT
DTSTART;VALUE=DATE:20230619
DTEND;VALUE=DATE:20230624
DTSTAMP:20260423T220323
CREATED:20230615T060743Z
LAST-MODIFIED:20230615T060743Z
UID:3252-1687132800-1687564799@broomenorthps.wa.edu.au
SUMMARY:Whole School Positive Behaviour Focus:  Technology routine (We are respectful and responsible)
DESCRIPTION:
URL:https://broomenorthps.wa.edu.au/event/whole-school-positive-behaviour-focus-technology-routine-we-are-respectful-and-responsible/
CATEGORIES:6. PBIS
END:VEVENT
BEGIN:VEVENT
DTSTART;TZID=Australia/Perth:20230615T124000
DTEND;TZID=Australia/Perth:20230615T130000
DTSTAMP:20260423T220323
CREATED:20230526T064648Z
LAST-MODIFIED:20230615T032839Z
UID:2898-1686832800-1686834000@broomenorthps.wa.edu.au
SUMMARY:Pizza with the Principal
DESCRIPTION:Twice a term\, 6 students are chosen for their good work to have a pizza lunch with Principal\, Ken Molyneux.  Parents of selected students are notified by SMS a few days prior.
URL:https://broomenorthps.wa.edu.au/event/pizza-with-the-principal-6/
CATEGORIES:6. PBIS
END:VEVENT
BEGIN:VEVENT
DTSTART;TZID=Australia/Perth:20230525T124000
DTEND;TZID=Australia/Perth:20230525T130000
DTSTAMP:20260423T220323
CREATED:20230526T063742Z
LAST-MODIFIED:20230526T063742Z
UID:2888-1685018400-1685019600@broomenorthps.wa.edu.au
SUMMARY:Pizza with the Principal
DESCRIPTION:Twice a term\, 6 students are chosen for their good work to have a pizza lunch with Principal\, Ken Molyneux.  Parents of selected students are notified by SMS a few days prior.
URL:https://broomenorthps.wa.edu.au/event/pizza-with-the-principal-5/
CATEGORIES:6. PBIS
END:VEVENT
END:VCALENDAR