BEGIN:VCALENDAR
VERSION:2.0
PRODID:-//Broome North Primary School - ECPv6.15.18//NONSGML v1.0//EN
CALSCALE:GREGORIAN
METHOD:PUBLISH
X-WR-CALNAME:Broome North Primary School
X-ORIGINAL-URL:https://broomenorthps.wa.edu.au
X-WR-CALDESC:Events for Broome North Primary School
REFRESH-INTERVAL;VALUE=DURATION:PT1H
X-Robots-Tag:noindex
X-PUBLISHED-TTL:PT1H
BEGIN:VTIMEZONE
TZID:Australia/Perth
BEGIN:STANDARD
TZOFFSETFROM:+0800
TZOFFSETTO:+0800
TZNAME:AWST
DTSTART:20220101T000000
END:STANDARD
END:VTIMEZONE
BEGIN:VEVENT
DTSTART;VALUE=DATE:20231109
DTEND;VALUE=DATE:20231111
DTSTAMP:20260424T221518
CREATED:20230530T052737Z
LAST-MODIFIED:20230530T052737Z
UID:3135-1699488000-1699660799@broomenorthps.wa.edu.au
SUMMARY:Kindy Walag
DESCRIPTION:
URL:https://broomenorthps.wa.edu.au/event/kindy-walag-20/
CATEGORIES:3. Kindy Days
END:VEVENT
BEGIN:VEVENT
DTSTART;VALUE=DATE:20231106
DTEND;VALUE=DATE:20231109
DTSTAMP:20260424T221518
CREATED:20230530T052630Z
LAST-MODIFIED:20230530T052630Z
UID:3133-1699228800-1699487999@broomenorthps.wa.edu.au
SUMMARY:Kindy Bandily
DESCRIPTION:
URL:https://broomenorthps.wa.edu.au/event/kindy-bandily-20/
CATEGORIES:3. Kindy Days
END:VEVENT
BEGIN:VEVENT
DTSTART;VALUE=DATE:20231101
DTEND;VALUE=DATE:20231104
DTSTAMP:20260424T221518
CREATED:20230530T052448Z
LAST-MODIFIED:20230530T052448Z
UID:3131-1698796800-1699055999@broomenorthps.wa.edu.au
SUMMARY:Kindy Walag
DESCRIPTION:
URL:https://broomenorthps.wa.edu.au/event/kindy-walag-19/
CATEGORIES:3. Kindy Days
END:VEVENT
BEGIN:VEVENT
DTSTART;VALUE=DATE:20231030
DTEND;VALUE=DATE:20231101
DTSTAMP:20260424T221518
CREATED:20230530T051931Z
LAST-MODIFIED:20230530T051931Z
UID:3129-1698624000-1698796799@broomenorthps.wa.edu.au
SUMMARY:Kindy Bandily
DESCRIPTION:
URL:https://broomenorthps.wa.edu.au/event/kindy-bandily-19/
CATEGORIES:3. Kindy Days
END:VEVENT
BEGIN:VEVENT
DTSTART;VALUE=DATE:20231026
DTEND;VALUE=DATE:20231028
DTSTAMP:20260424T221518
CREATED:20230530T020408Z
LAST-MODIFIED:20230530T020408Z
UID:3127-1698278400-1698451199@broomenorthps.wa.edu.au
SUMMARY:Kindy Walag
DESCRIPTION:
URL:https://broomenorthps.wa.edu.au/event/kindy-walag-18/
CATEGORIES:3. Kindy Days
END:VEVENT
BEGIN:VEVENT
DTSTART;VALUE=DATE:20231023
DTEND;VALUE=DATE:20231026
DTSTAMP:20260424T221518
CREATED:20230530T020306Z
LAST-MODIFIED:20230530T020306Z
UID:3125-1698019200-1698278399@broomenorthps.wa.edu.au
SUMMARY:Kindy Bandily
DESCRIPTION:
URL:https://broomenorthps.wa.edu.au/event/kindy-bandily-18/
CATEGORIES:3. Kindy Days
END:VEVENT
BEGIN:VEVENT
DTSTART;VALUE=DATE:20231018
DTEND;VALUE=DATE:20231021
DTSTAMP:20260424T221518
CREATED:20230530T014546Z
LAST-MODIFIED:20230530T014546Z
UID:3123-1697587200-1697846399@broomenorthps.wa.edu.au
SUMMARY:Kindy Walag
DESCRIPTION:
URL:https://broomenorthps.wa.edu.au/event/kindy-walag-17/
CATEGORIES:3. Kindy Days
END:VEVENT
BEGIN:VEVENT
DTSTART;VALUE=DATE:20231016
DTEND;VALUE=DATE:20231018
DTSTAMP:20260424T221518
CREATED:20230530T014042Z
LAST-MODIFIED:20230530T014114Z
UID:3117-1697414400-1697587199@broomenorthps.wa.edu.au
SUMMARY:Kindy Bandily
DESCRIPTION:
URL:https://broomenorthps.wa.edu.au/event/kindy-bandily-16/
CATEGORIES:3. Kindy Days
END:VEVENT
BEGIN:VEVENT
DTSTART;VALUE=DATE:20231012
DTEND;VALUE=DATE:20231014
DTSTAMP:20260424T221518
CREATED:20230530T014443Z
LAST-MODIFIED:20230530T014443Z
UID:3121-1697068800-1697241599@broomenorthps.wa.edu.au
SUMMARY:Kindy Walag
DESCRIPTION:
URL:https://broomenorthps.wa.edu.au/event/kindy-walag-16/
CATEGORIES:3. Kindy Days
END:VEVENT
BEGIN:VEVENT
DTSTART;VALUE=DATE:20231009
DTEND;VALUE=DATE:20231012
DTSTAMP:20260424T221518
CREATED:20230530T014322Z
LAST-MODIFIED:20230530T014322Z
UID:3119-1696809600-1697068799@broomenorthps.wa.edu.au
SUMMARY:Kindy Bandily
DESCRIPTION:
URL:https://broomenorthps.wa.edu.au/event/kindy-bandily-17/
CATEGORIES:3. Kindy Days
END:VEVENT
BEGIN:VEVENT
DTSTART;VALUE=DATE:20230920
DTEND;VALUE=DATE:20230923
DTSTAMP:20260424T221518
CREATED:20230529T063758Z
LAST-MODIFIED:20230529T063758Z
UID:3089-1695168000-1695427199@broomenorthps.wa.edu.au
SUMMARY:Kindy Walag
DESCRIPTION:
URL:https://broomenorthps.wa.edu.au/event/kindy-walag-15/
CATEGORIES:3. Kindy Days
END:VEVENT
BEGIN:VEVENT
DTSTART;VALUE=DATE:20230918
DTEND;VALUE=DATE:20230920
DTSTAMP:20260424T221518
CREATED:20230529T063711Z
LAST-MODIFIED:20230529T063711Z
UID:3087-1694995200-1695167999@broomenorthps.wa.edu.au
SUMMARY:Kindy Bandily
DESCRIPTION:
URL:https://broomenorthps.wa.edu.au/event/kindy-bandily-15/
CATEGORIES:3. Kindy Days
END:VEVENT
BEGIN:VEVENT
DTSTART;VALUE=DATE:20230914
DTEND;VALUE=DATE:20230916
DTSTAMP:20260424T221518
CREATED:20230529T063435Z
LAST-MODIFIED:20230529T063435Z
UID:3085-1694649600-1694822399@broomenorthps.wa.edu.au
SUMMARY:Kindy Walag
DESCRIPTION:
URL:https://broomenorthps.wa.edu.au/event/kindy-walag-14/
CATEGORIES:3. Kindy Days
END:VEVENT
BEGIN:VEVENT
DTSTART;VALUE=DATE:20230911
DTEND;VALUE=DATE:20230914
DTSTAMP:20260424T221518
CREATED:20230529T063256Z
LAST-MODIFIED:20230529T063256Z
UID:3083-1694390400-1694649599@broomenorthps.wa.edu.au
SUMMARY:Kindy Bandily
DESCRIPTION:
URL:https://broomenorthps.wa.edu.au/event/kindy-bandily-14/
CATEGORIES:3. Kindy Days
END:VEVENT
BEGIN:VEVENT
DTSTART;VALUE=DATE:20230906
DTEND;VALUE=DATE:20230909
DTSTAMP:20260424T221518
CREATED:20230529T063134Z
LAST-MODIFIED:20230529T063134Z
UID:3081-1693958400-1694217599@broomenorthps.wa.edu.au
SUMMARY:Kindy Walag
DESCRIPTION:
URL:https://broomenorthps.wa.edu.au/event/kindy-walag-13/
CATEGORIES:3. Kindy Days
END:VEVENT
BEGIN:VEVENT
DTSTART;VALUE=DATE:20230904
DTEND;VALUE=DATE:20230906
DTSTAMP:20260424T221518
CREATED:20230529T063042Z
LAST-MODIFIED:20230529T063042Z
UID:3079-1693785600-1693958399@broomenorthps.wa.edu.au
SUMMARY:Kindy Bandily
DESCRIPTION:
URL:https://broomenorthps.wa.edu.au/event/kindy-bandily-13/
CATEGORIES:3. Kindy Days
END:VEVENT
BEGIN:VEVENT
DTSTART;VALUE=DATE:20230831
DTEND;VALUE=DATE:20230902
DTSTAMP:20260424T221518
CREATED:20230529T062935Z
LAST-MODIFIED:20230529T062935Z
UID:3077-1693440000-1693612799@broomenorthps.wa.edu.au
SUMMARY:Kindy Walag
DESCRIPTION:
URL:https://broomenorthps.wa.edu.au/event/kindy-walag-12/
CATEGORIES:3. Kindy Days
END:VEVENT
BEGIN:VEVENT
DTSTART;VALUE=DATE:20230828
DTEND;VALUE=DATE:20230831
DTSTAMP:20260424T221518
CREATED:20230529T062841Z
LAST-MODIFIED:20230529T062841Z
UID:3075-1693180800-1693439999@broomenorthps.wa.edu.au
SUMMARY:Kindy Bandily
DESCRIPTION:
URL:https://broomenorthps.wa.edu.au/event/kindy-bandily-12/
CATEGORIES:3. Kindy Days
END:VEVENT
BEGIN:VEVENT
DTSTART;VALUE=DATE:20230823
DTEND;VALUE=DATE:20230826
DTSTAMP:20260424T221518
CREATED:20230529T062733Z
LAST-MODIFIED:20230529T062733Z
UID:3073-1692748800-1693007999@broomenorthps.wa.edu.au
SUMMARY:Kindy Walag
DESCRIPTION:
URL:https://broomenorthps.wa.edu.au/event/kindy-walag-11/
CATEGORIES:3. Kindy Days
END:VEVENT
BEGIN:VEVENT
DTSTART;VALUE=DATE:20230821
DTEND;VALUE=DATE:20230823
DTSTAMP:20260424T221518
CREATED:20230529T062549Z
LAST-MODIFIED:20230529T062549Z
UID:3071-1692576000-1692748799@broomenorthps.wa.edu.au
SUMMARY:Kindy Bandily
DESCRIPTION:
URL:https://broomenorthps.wa.edu.au/event/kindy-bandily-11/
CATEGORIES:3. Kindy Days
END:VEVENT
BEGIN:VEVENT
DTSTART;VALUE=DATE:20230817
DTEND;VALUE=DATE:20230819
DTSTAMP:20260424T221518
CREATED:20230529T050917Z
LAST-MODIFIED:20230529T050917Z
UID:3069-1692230400-1692403199@broomenorthps.wa.edu.au
SUMMARY:Kindy Walag
DESCRIPTION:
URL:https://broomenorthps.wa.edu.au/event/kindy-walag-10/
CATEGORIES:3. Kindy Days
END:VEVENT
BEGIN:VEVENT
DTSTART;VALUE=DATE:20230814
DTEND;VALUE=DATE:20230817
DTSTAMP:20260424T221518
CREATED:20230529T050728Z
LAST-MODIFIED:20230529T050728Z
UID:3067-1691971200-1692230399@broomenorthps.wa.edu.au
SUMMARY:Kindy Bandily
DESCRIPTION:
URL:https://broomenorthps.wa.edu.au/event/kindy-bandily-10/
CATEGORIES:3. Kindy Days
END:VEVENT
BEGIN:VEVENT
DTSTART;VALUE=DATE:20230809
DTEND;VALUE=DATE:20230812
DTSTAMP:20260424T221518
CREATED:20230529T010210Z
LAST-MODIFIED:20230529T010210Z
UID:2985-1691539200-1691798399@broomenorthps.wa.edu.au
SUMMARY:Kindy Walag
DESCRIPTION:
URL:https://broomenorthps.wa.edu.au/event/kindy-walag-9/
CATEGORIES:3. Kindy Days
END:VEVENT
BEGIN:VEVENT
DTSTART;VALUE=DATE:20230807
DTEND;VALUE=DATE:20230809
DTSTAMP:20260424T221518
CREATED:20230529T010116Z
LAST-MODIFIED:20230529T010116Z
UID:2983-1691366400-1691539199@broomenorthps.wa.edu.au
SUMMARY:Kindy Bandily
DESCRIPTION:
URL:https://broomenorthps.wa.edu.au/event/kindy-bandily-9/
CATEGORIES:3. Kindy Days
END:VEVENT
BEGIN:VEVENT
DTSTART;VALUE=DATE:20230803
DTEND;VALUE=DATE:20230805
DTSTAMP:20260424T221518
CREATED:20230529T010014Z
LAST-MODIFIED:20230529T010014Z
UID:2981-1691020800-1691193599@broomenorthps.wa.edu.au
SUMMARY:Kindy Walag
DESCRIPTION:
URL:https://broomenorthps.wa.edu.au/event/kindy-walag-8/
CATEGORIES:3. Kindy Days
END:VEVENT
BEGIN:VEVENT
DTSTART;VALUE=DATE:20230731
DTEND;VALUE=DATE:20230803
DTSTAMP:20260424T221518
CREATED:20230529T005925Z
LAST-MODIFIED:20230529T005925Z
UID:2979-1690761600-1691020799@broomenorthps.wa.edu.au
SUMMARY:Kindy Bandily
DESCRIPTION:
URL:https://broomenorthps.wa.edu.au/event/kindy-bandily-8/
CATEGORIES:3. Kindy Days
END:VEVENT
BEGIN:VEVENT
DTSTART;VALUE=DATE:20230726
DTEND;VALUE=DATE:20230729
DTSTAMP:20260424T221518
CREATED:20230529T005838Z
LAST-MODIFIED:20230529T005838Z
UID:2977-1690329600-1690588799@broomenorthps.wa.edu.au
SUMMARY:Kindy Walag
DESCRIPTION:
URL:https://broomenorthps.wa.edu.au/event/kindy-walag-7/
CATEGORIES:3. Kindy Days
END:VEVENT
BEGIN:VEVENT
DTSTART;VALUE=DATE:20230724
DTEND;VALUE=DATE:20230726
DTSTAMP:20260424T221518
CREATED:20230529T005740Z
LAST-MODIFIED:20230529T005740Z
UID:2975-1690156800-1690329599@broomenorthps.wa.edu.au
SUMMARY:Kindy Bandily
DESCRIPTION:
URL:https://broomenorthps.wa.edu.au/event/kindy-bandily-7/
CATEGORIES:3. Kindy Days
END:VEVENT
BEGIN:VEVENT
DTSTART;VALUE=DATE:20230720
DTEND;VALUE=DATE:20230722
DTSTAMP:20260424T221518
CREATED:20230529T005642Z
LAST-MODIFIED:20230529T005642Z
UID:2973-1689811200-1689983999@broomenorthps.wa.edu.au
SUMMARY:Kindy Walag
DESCRIPTION:
URL:https://broomenorthps.wa.edu.au/event/kindy-walag-6/
CATEGORIES:3. Kindy Days
END:VEVENT
BEGIN:VEVENT
DTSTART;VALUE=DATE:20230718
DTEND;VALUE=DATE:20230720
DTSTAMP:20260424T221518
CREATED:20230529T005447Z
LAST-MODIFIED:20230529T005447Z
UID:2971-1689638400-1689811199@broomenorthps.wa.edu.au
SUMMARY:Kindy Bandily
DESCRIPTION:
URL:https://broomenorthps.wa.edu.au/event/kindy-bandily-6/
CATEGORIES:3. Kindy Days
END:VEVENT
END:VCALENDAR