BEGIN:VCALENDAR
VERSION:2.0
PRODID:-//Broome North Primary School - ECPv6.15.18//NONSGML v1.0//EN
CALSCALE:GREGORIAN
METHOD:PUBLISH
X-WR-CALNAME:Broome North Primary School
X-ORIGINAL-URL:https://broomenorthps.wa.edu.au
X-WR-CALDESC:Events for Broome North Primary School
REFRESH-INTERVAL;VALUE=DURATION:PT1H
X-Robots-Tag:noindex
X-PUBLISHED-TTL:PT1H
BEGIN:VTIMEZONE
TZID:Australia/Perth
BEGIN:STANDARD
TZOFFSETFROM:+0800
TZOFFSETTO:+0800
TZNAME:AWST
DTSTART:20230101T000000
END:STANDARD
END:VTIMEZONE
BEGIN:VEVENT
DTSTART;TZID=Australia/Perth:20240617T080000
DTEND;TZID=Australia/Perth:20240618T141000
DTSTAMP:20260424T041545
CREATED:20240219T062816Z
LAST-MODIFIED:20240219T062816Z
UID:4039-1718611200-1718719800@broomenorthps.wa.edu.au
SUMMARY:Kindy Bandily
DESCRIPTION:
URL:https://broomenorthps.wa.edu.au/event/kindy-bandily-44/
CATEGORIES:3. Kindy Days
END:VEVENT
BEGIN:VEVENT
DTSTART;TZID=Australia/Perth:20240613T080000
DTEND;TZID=Australia/Perth:20240614T141000
DTSTAMP:20260424T041545
CREATED:20240219T062702Z
LAST-MODIFIED:20240219T062702Z
UID:4037-1718265600-1718374200@broomenorthps.wa.edu.au
SUMMARY:Kindy Walag
DESCRIPTION:
URL:https://broomenorthps.wa.edu.au/event/kindy-walag-43/
CATEGORIES:3. Kindy Days
END:VEVENT
BEGIN:VEVENT
DTSTART;TZID=Australia/Perth:20240610T080000
DTEND;TZID=Australia/Perth:20240612T141000
DTSTAMP:20260424T041545
CREATED:20240219T062603Z
LAST-MODIFIED:20240219T062603Z
UID:4035-1718006400-1718201400@broomenorthps.wa.edu.au
SUMMARY:Kindy Bandily
DESCRIPTION:
URL:https://broomenorthps.wa.edu.au/event/kindy-bandily-43/
CATEGORIES:3. Kindy Days
END:VEVENT
BEGIN:VEVENT
DTSTART;TZID=Australia/Perth:20240605T080000
DTEND;TZID=Australia/Perth:20240607T141000
DTSTAMP:20260424T041545
CREATED:20240219T062320Z
LAST-MODIFIED:20240219T062515Z
UID:4032-1717574400-1717769400@broomenorthps.wa.edu.au
SUMMARY:Kindy Walag
DESCRIPTION:
URL:https://broomenorthps.wa.edu.au/event/kindy-walag-42/
CATEGORIES:3. Kindy Days
END:VEVENT
BEGIN:VEVENT
DTSTART;TZID=Australia/Perth:20240604T080000
DTEND;TZID=Australia/Perth:20240604T141000
DTSTAMP:20260424T041545
CREATED:20240219T062232Z
LAST-MODIFIED:20240219T062232Z
UID:4030-1717488000-1717510200@broomenorthps.wa.edu.au
SUMMARY:Kindy Bandily
DESCRIPTION:
URL:https://broomenorthps.wa.edu.au/event/kindy-bandily-42/
CATEGORIES:3. Kindy Days
END:VEVENT
BEGIN:VEVENT
DTSTART;TZID=Australia/Perth:20240530T080000
DTEND;TZID=Australia/Perth:20240530T141000
DTSTAMP:20260424T041545
CREATED:20240219T061042Z
LAST-MODIFIED:20240219T061042Z
UID:4015-1717056000-1717078200@broomenorthps.wa.edu.au
SUMMARY:Kindy Walag
DESCRIPTION:
URL:https://broomenorthps.wa.edu.au/event/kindy-walag-41/
CATEGORIES:3. Kindy Days
END:VEVENT
BEGIN:VEVENT
DTSTART;TZID=Australia/Perth:20240527T080000
DTEND;TZID=Australia/Perth:20240529T141000
DTSTAMP:20260424T041545
CREATED:20240219T060959Z
LAST-MODIFIED:20240219T060959Z
UID:4013-1716796800-1716991800@broomenorthps.wa.edu.au
SUMMARY:Kindy Bandily
DESCRIPTION:
URL:https://broomenorthps.wa.edu.au/event/kindy-bandily-41/
CATEGORIES:3. Kindy Days
END:VEVENT
BEGIN:VEVENT
DTSTART;TZID=Australia/Perth:20240522T080000
DTEND;TZID=Australia/Perth:20240524T141000
DTSTAMP:20260424T041545
CREATED:20240219T052732Z
LAST-MODIFIED:20240219T052732Z
UID:3951-1716364800-1716559800@broomenorthps.wa.edu.au
SUMMARY:Kindy Walag
DESCRIPTION:
URL:https://broomenorthps.wa.edu.au/event/kindy-walag-40/
CATEGORIES:3. Kindy Days
END:VEVENT
BEGIN:VEVENT
DTSTART;TZID=Australia/Perth:20240520T080000
DTEND;TZID=Australia/Perth:20240521T141000
DTSTAMP:20260424T041545
CREATED:20240219T052520Z
LAST-MODIFIED:20240219T052520Z
UID:3949-1716192000-1716300600@broomenorthps.wa.edu.au
SUMMARY:Kindy Bandily
DESCRIPTION:
URL:https://broomenorthps.wa.edu.au/event/kindy-bandily-40/
CATEGORIES:3. Kindy Days
END:VEVENT
BEGIN:VEVENT
DTSTART;TZID=Australia/Perth:20240516T080000
DTEND;TZID=Australia/Perth:20240517T141000
DTSTAMP:20260424T041545
CREATED:20240219T052427Z
LAST-MODIFIED:20240219T052427Z
UID:3947-1715846400-1715955000@broomenorthps.wa.edu.au
SUMMARY:Kindy Walag
DESCRIPTION:
URL:https://broomenorthps.wa.edu.au/event/kindy-walag-39/
CATEGORIES:3. Kindy Days
END:VEVENT
BEGIN:VEVENT
DTSTART;TZID=Australia/Perth:20240513T080000
DTEND;TZID=Australia/Perth:20240515T141000
DTSTAMP:20260424T041545
CREATED:20240219T052348Z
LAST-MODIFIED:20240219T052348Z
UID:3945-1715587200-1715782200@broomenorthps.wa.edu.au
SUMMARY:Kindy Bandily
DESCRIPTION:
URL:https://broomenorthps.wa.edu.au/event/kindy-bandily-39/
CATEGORIES:3. Kindy Days
END:VEVENT
BEGIN:VEVENT
DTSTART;TZID=Australia/Perth:20240508T080000
DTEND;TZID=Australia/Perth:20240510T141000
DTSTAMP:20260424T041545
CREATED:20240219T042857Z
LAST-MODIFIED:20240219T042857Z
UID:3891-1715155200-1715350200@broomenorthps.wa.edu.au
SUMMARY:Kindy Walag
DESCRIPTION:
URL:https://broomenorthps.wa.edu.au/event/kindy-walag-38/
CATEGORIES:3. Kindy Days
END:VEVENT
BEGIN:VEVENT
DTSTART;TZID=Australia/Perth:20240506T080000
DTEND;TZID=Australia/Perth:20240507T141000
DTSTAMP:20260424T041545
CREATED:20240219T042507Z
LAST-MODIFIED:20240219T042507Z
UID:3888-1714982400-1715091000@broomenorthps.wa.edu.au
SUMMARY:Kindy Bandily
DESCRIPTION:
URL:https://broomenorthps.wa.edu.au/event/kindy-bandily-38/
CATEGORIES:3. Kindy Days
END:VEVENT
BEGIN:VEVENT
DTSTART;TZID=Australia/Perth:20240502T080000
DTEND;TZID=Australia/Perth:20240503T141000
DTSTAMP:20260424T041545
CREATED:20240219T042325Z
LAST-MODIFIED:20240219T042325Z
UID:3886-1714636800-1714745400@broomenorthps.wa.edu.au
SUMMARY:Kindy Walag
DESCRIPTION:
URL:https://broomenorthps.wa.edu.au/event/kindy-walag-37/
CATEGORIES:3. Kindy Days
END:VEVENT
BEGIN:VEVENT
DTSTART;TZID=Australia/Perth:20240429T080000
DTEND;TZID=Australia/Perth:20240501T141000
DTSTAMP:20260424T041545
CREATED:20240219T042023Z
LAST-MODIFIED:20240219T042023Z
UID:3884-1714377600-1714572600@broomenorthps.wa.edu.au
SUMMARY:Kindy Bandily
DESCRIPTION:
URL:https://broomenorthps.wa.edu.au/event/kindy-bandily-37/
CATEGORIES:3. Kindy Days
END:VEVENT
BEGIN:VEVENT
DTSTART;VALUE=DATE:20240424
DTEND;VALUE=DATE:20240425
DTSTAMP:20260424T041545
CREATED:20240219T041909Z
LAST-MODIFIED:20240219T041909Z
UID:3882-1713916800-1714003199@broomenorthps.wa.edu.au
SUMMARY:Kindy Walag
DESCRIPTION:
URL:https://broomenorthps.wa.edu.au/event/kindy-walag-36/
CATEGORIES:3. Kindy Days
END:VEVENT
BEGIN:VEVENT
DTSTART;TZID=Australia/Perth:20240422T080000
DTEND;TZID=Australia/Perth:20240423T141000
DTSTAMP:20260424T041545
CREATED:20240219T041826Z
LAST-MODIFIED:20240219T041826Z
UID:3880-1713772800-1713881400@broomenorthps.wa.edu.au
SUMMARY:Kindy Bandily
DESCRIPTION:
URL:https://broomenorthps.wa.edu.au/event/kindy-bandily-36/
CATEGORIES:3. Kindy Days
END:VEVENT
BEGIN:VEVENT
DTSTART;TZID=Australia/Perth:20240418T080000
DTEND;TZID=Australia/Perth:20240419T141000
DTSTAMP:20260424T041545
CREATED:20240219T041749Z
LAST-MODIFIED:20240219T041749Z
UID:3878-1713427200-1713535800@broomenorthps.wa.edu.au
SUMMARY:Kindy Walag
DESCRIPTION:
URL:https://broomenorthps.wa.edu.au/event/kindy-walag-35/
CATEGORIES:3. Kindy Days
END:VEVENT
BEGIN:VEVENT
DTSTART;TZID=Australia/Perth:20240415T090000
DTEND;TZID=Australia/Perth:20240415T150000
DTSTAMP:20260424T041545
CREATED:20240219T043352Z
LAST-MODIFIED:20240219T045029Z
UID:3897-1713171600-1713193200@broomenorthps.wa.edu.au
SUMMARY:Kindy 2025 Applications open
DESCRIPTION:For Kindy 2025 Enrolment information\, please see the enrolments section on our website. \nStudents born between 1 July 2020 and 30 June 2021 are welcome to apply for Kindy at Broome North PS for 2025.
URL:https://broomenorthps.wa.edu.au/event/kindy-2025-applications-open/
CATEGORIES:3. Kindy Days
END:VEVENT
BEGIN:VEVENT
DTSTART;TZID=Australia/Perth:20240415T080000
DTEND;TZID=Australia/Perth:20240417T141000
DTSTAMP:20260424T041545
CREATED:20240219T041701Z
LAST-MODIFIED:20240219T041701Z
UID:3876-1713168000-1713363000@broomenorthps.wa.edu.au
SUMMARY:Kindy Bandily
DESCRIPTION:
URL:https://broomenorthps.wa.edu.au/event/kindy-bandily-35/
CATEGORIES:3. Kindy Days
END:VEVENT
BEGIN:VEVENT
DTSTART;TZID=Australia/Perth:20240328T080000
DTEND;TZID=Australia/Perth:20240328T141000
DTSTAMP:20260424T041545
CREATED:20240219T010721Z
LAST-MODIFIED:20240219T010721Z
UID:3767-1711612800-1711635000@broomenorthps.wa.edu.au
SUMMARY:Kindy Walag
DESCRIPTION:
URL:https://broomenorthps.wa.edu.au/event/kindy-walag-34/
CATEGORIES:3. Kindy Days
END:VEVENT
BEGIN:VEVENT
DTSTART;TZID=Australia/Perth:20240325T080000
DTEND;TZID=Australia/Perth:20240327T141000
DTSTAMP:20260424T041545
CREATED:20240219T010652Z
LAST-MODIFIED:20240219T010652Z
UID:3765-1711353600-1711548600@broomenorthps.wa.edu.au
SUMMARY:Kindy Bandily
DESCRIPTION:
URL:https://broomenorthps.wa.edu.au/event/kindy-bandily-34/
CATEGORIES:3. Kindy Days
END:VEVENT
BEGIN:VEVENT
DTSTART;TZID=Australia/Perth:20240320T080000
DTEND;TZID=Australia/Perth:20240322T141000
DTSTAMP:20260424T041545
CREATED:20240219T010604Z
LAST-MODIFIED:20240219T010604Z
UID:3763-1710921600-1711116600@broomenorthps.wa.edu.au
SUMMARY:Kindy Walag
DESCRIPTION:
URL:https://broomenorthps.wa.edu.au/event/kindy-walag-33/
CATEGORIES:3. Kindy Days
END:VEVENT
BEGIN:VEVENT
DTSTART;TZID=Australia/Perth:20240318T080000
DTEND;TZID=Australia/Perth:20240319T141000
DTSTAMP:20260424T041545
CREATED:20240219T010511Z
LAST-MODIFIED:20240219T010511Z
UID:3761-1710748800-1710857400@broomenorthps.wa.edu.au
SUMMARY:Kindy Bandily
DESCRIPTION:
URL:https://broomenorthps.wa.edu.au/event/kindy-bandily-33/
CATEGORIES:3. Kindy Days
END:VEVENT
BEGIN:VEVENT
DTSTART;TZID=Australia/Perth:20240314T080000
DTEND;TZID=Australia/Perth:20240315T141000
DTSTAMP:20260424T041545
CREATED:20240219T010426Z
LAST-MODIFIED:20240219T010426Z
UID:3759-1710403200-1710511800@broomenorthps.wa.edu.au
SUMMARY:Kindy Walag
DESCRIPTION:
URL:https://broomenorthps.wa.edu.au/event/kindy-walag-32/
CATEGORIES:3. Kindy Days
END:VEVENT
BEGIN:VEVENT
DTSTART;TZID=Australia/Perth:20240311T080000
DTEND;TZID=Australia/Perth:20240313T141000
DTSTAMP:20260424T041545
CREATED:20240219T010315Z
LAST-MODIFIED:20240219T010315Z
UID:3757-1710144000-1710339000@broomenorthps.wa.edu.au
SUMMARY:Kindy Bandily
DESCRIPTION:
URL:https://broomenorthps.wa.edu.au/event/kindy-bandily-32/
CATEGORIES:3. Kindy Days
END:VEVENT
BEGIN:VEVENT
DTSTART;TZID=Australia/Perth:20240306T080000
DTEND;TZID=Australia/Perth:20240308T141000
DTSTAMP:20260424T041545
CREATED:20240219T010225Z
LAST-MODIFIED:20240219T010225Z
UID:3755-1709712000-1709907000@broomenorthps.wa.edu.au
SUMMARY:Kindy Walag
DESCRIPTION:
URL:https://broomenorthps.wa.edu.au/event/kindy-walag-31/
CATEGORIES:3. Kindy Days
END:VEVENT
BEGIN:VEVENT
DTSTART;TZID=Australia/Perth:20240305T080000
DTEND;TZID=Australia/Perth:20240305T141000
DTSTAMP:20260424T041545
CREATED:20240219T010123Z
LAST-MODIFIED:20240219T010123Z
UID:3753-1709625600-1709647800@broomenorthps.wa.edu.au
SUMMARY:Kindy Bandily
DESCRIPTION:
URL:https://broomenorthps.wa.edu.au/event/kindy-bandily-31/
CATEGORIES:3. Kindy Days
END:VEVENT
BEGIN:VEVENT
DTSTART;TZID=Australia/Perth:20240229T080000
DTEND;TZID=Australia/Perth:20240301T141000
DTSTAMP:20260424T041545
CREATED:20240219T010020Z
LAST-MODIFIED:20240219T010020Z
UID:3751-1709193600-1709302200@broomenorthps.wa.edu.au
SUMMARY:Kindy Walag
DESCRIPTION:
URL:https://broomenorthps.wa.edu.au/event/kindy-walag-30/
CATEGORIES:3. Kindy Days
END:VEVENT
BEGIN:VEVENT
DTSTART;TZID=Australia/Perth:20240226T080000
DTEND;TZID=Australia/Perth:20240228T141000
DTSTAMP:20260424T041545
CREATED:20240219T005941Z
LAST-MODIFIED:20240219T005941Z
UID:3749-1708934400-1709129400@broomenorthps.wa.edu.au
SUMMARY:Kindy Bandily
DESCRIPTION:
URL:https://broomenorthps.wa.edu.au/event/kindy-bandily-30/
CATEGORIES:3. Kindy Days
END:VEVENT
END:VCALENDAR