BEGIN:VCALENDAR
VERSION:2.0
PRODID:-//Broome North Primary School - ECPv6.15.18//NONSGML v1.0//EN
CALSCALE:GREGORIAN
METHOD:PUBLISH
X-WR-CALNAME:Broome North Primary School
X-ORIGINAL-URL:https://broomenorthps.wa.edu.au
X-WR-CALDESC:Events for Broome North Primary School
REFRESH-INTERVAL;VALUE=DURATION:PT1H
X-Robots-Tag:noindex
X-PUBLISHED-TTL:PT1H
BEGIN:VTIMEZONE
TZID:Australia/Perth
BEGIN:STANDARD
TZOFFSETFROM:+0800
TZOFFSETTO:+0800
TZNAME:AWST
DTSTART:20230101T000000
END:STANDARD
END:VTIMEZONE
BEGIN:VEVENT
DTSTART;TZID=Australia/Perth:20241211T080000
DTEND;TZID=Australia/Perth:20241212T141000
DTSTAMP:20260423T230048
CREATED:20240223T063256Z
LAST-MODIFIED:20240223T063256Z
UID:4475-1733904000-1734012600@broomenorthps.wa.edu.au
SUMMARY:Kindy Walag
DESCRIPTION:
URL:https://broomenorthps.wa.edu.au/event/kindy-walag-65/
CATEGORIES:3. Kindy Days
END:VEVENT
BEGIN:VEVENT
DTSTART;TZID=Australia/Perth:20241209T080000
DTEND;TZID=Australia/Perth:20241210T141000
DTSTAMP:20260423T230048
CREATED:20240223T063214Z
LAST-MODIFIED:20240223T063214Z
UID:4473-1733731200-1733839800@broomenorthps.wa.edu.au
SUMMARY:Kindy Bandily
DESCRIPTION:
URL:https://broomenorthps.wa.edu.au/event/kindy-bandily-65/
CATEGORIES:3. Kindy Days
END:VEVENT
BEGIN:VEVENT
DTSTART;TZID=Australia/Perth:20241205T080000
DTEND;TZID=Australia/Perth:20241206T141000
DTSTAMP:20260423T230048
CREATED:20240223T063020Z
LAST-MODIFIED:20240223T063020Z
UID:4471-1733385600-1733494200@broomenorthps.wa.edu.au
SUMMARY:Kindy Walag
DESCRIPTION:
URL:https://broomenorthps.wa.edu.au/event/kindy-walag-64/
CATEGORIES:3. Kindy Days
END:VEVENT
BEGIN:VEVENT
DTSTART;TZID=Australia/Perth:20241202T080000
DTEND;TZID=Australia/Perth:20241204T141000
DTSTAMP:20260423T230048
CREATED:20240223T062949Z
LAST-MODIFIED:20240223T062949Z
UID:4469-1733126400-1733321400@broomenorthps.wa.edu.au
SUMMARY:Kindy Bandily
DESCRIPTION:
URL:https://broomenorthps.wa.edu.au/event/kindy-bandily-64/
CATEGORIES:3. Kindy Days
END:VEVENT
BEGIN:VEVENT
DTSTART;TZID=Australia/Perth:20241127T080000
DTEND;TZID=Australia/Perth:20241129T141000
DTSTAMP:20260423T230048
CREATED:20240223T062859Z
LAST-MODIFIED:20240223T062859Z
UID:4467-1732694400-1732889400@broomenorthps.wa.edu.au
SUMMARY:Kindy Walag
DESCRIPTION:
URL:https://broomenorthps.wa.edu.au/event/kindy-walag-63/
CATEGORIES:3. Kindy Days
END:VEVENT
BEGIN:VEVENT
DTSTART;TZID=Australia/Perth:20241125T080000
DTEND;TZID=Australia/Perth:20241126T141000
DTSTAMP:20260423T230048
CREATED:20240223T062808Z
LAST-MODIFIED:20240223T062808Z
UID:4465-1732521600-1732630200@broomenorthps.wa.edu.au
SUMMARY:Kindy Bandily
DESCRIPTION:
URL:https://broomenorthps.wa.edu.au/event/kindy-bandily-63/
CATEGORIES:3. Kindy Days
END:VEVENT
BEGIN:VEVENT
DTSTART;TZID=Australia/Perth:20241121T080000
DTEND;TZID=Australia/Perth:20241122T141000
DTSTAMP:20260423T230048
CREATED:20240223T062727Z
LAST-MODIFIED:20240223T062727Z
UID:4463-1732176000-1732284600@broomenorthps.wa.edu.au
SUMMARY:Kindy Walag
DESCRIPTION:
URL:https://broomenorthps.wa.edu.au/event/kindy-walag-62/
CATEGORIES:3. Kindy Days
END:VEVENT
BEGIN:VEVENT
DTSTART;TZID=Australia/Perth:20241118T080000
DTEND;TZID=Australia/Perth:20241120T141000
DTSTAMP:20260423T230048
CREATED:20240223T062646Z
LAST-MODIFIED:20240223T062646Z
UID:4461-1731916800-1732111800@broomenorthps.wa.edu.au
SUMMARY:Kindy Bandily
DESCRIPTION:
URL:https://broomenorthps.wa.edu.au/event/kindy-bandily-62/
CATEGORIES:3. Kindy Days
END:VEVENT
BEGIN:VEVENT
DTSTART;TZID=Australia/Perth:20241113T080000
DTEND;TZID=Australia/Perth:20241115T141000
DTSTAMP:20260423T230048
CREATED:20240223T062601Z
LAST-MODIFIED:20240223T062601Z
UID:4459-1731484800-1731679800@broomenorthps.wa.edu.au
SUMMARY:Kindy Walag
DESCRIPTION:
URL:https://broomenorthps.wa.edu.au/event/kindy-walag-61/
CATEGORIES:3. Kindy Days
END:VEVENT
BEGIN:VEVENT
DTSTART;TZID=Australia/Perth:20241111T080000
DTEND;TZID=Australia/Perth:20241112T141000
DTSTAMP:20260423T230048
CREATED:20240223T062454Z
LAST-MODIFIED:20240223T062454Z
UID:4457-1731312000-1731420600@broomenorthps.wa.edu.au
SUMMARY:Kindy Bandily
DESCRIPTION:
URL:https://broomenorthps.wa.edu.au/event/kindy-bandily-61/
CATEGORIES:3. Kindy Days
END:VEVENT
BEGIN:VEVENT
DTSTART;TZID=Australia/Perth:20241107T080000
DTEND;TZID=Australia/Perth:20241108T141000
DTSTAMP:20260423T230048
CREATED:20240223T062105Z
LAST-MODIFIED:20240223T062105Z
UID:4455-1730966400-1731075000@broomenorthps.wa.edu.au
SUMMARY:Kindy Walag
DESCRIPTION:
URL:https://broomenorthps.wa.edu.au/event/kindy-walag-60/
CATEGORIES:3. Kindy Days
END:VEVENT
BEGIN:VEVENT
DTSTART;TZID=Australia/Perth:20241106T080000
DTEND;TZID=Australia/Perth:20241106T141000
DTSTAMP:20260423T230048
CREATED:20240223T063618Z
LAST-MODIFIED:20240223T063618Z
UID:4481-1730880000-1730902200@broomenorthps.wa.edu.au
SUMMARY:Kindy 2025 Orientation
DESCRIPTION:
URL:https://broomenorthps.wa.edu.au/event/kindy-2025-orientation/
CATEGORIES:3. Kindy Days
END:VEVENT
BEGIN:VEVENT
DTSTART;TZID=Australia/Perth:20241104T170000
DTEND;TZID=Australia/Perth:20241104T180000
DTSTAMP:20260423T230048
CREATED:20240223T062005Z
LAST-MODIFIED:20240223T062005Z
UID:4453-1730739600-1730743200@broomenorthps.wa.edu.au
SUMMARY:Kindy 2025 Parent Information Session
DESCRIPTION:Time to be confirmed
URL:https://broomenorthps.wa.edu.au/event/kindy-2025-parent-information-session/
CATEGORIES:3. Kindy Days
END:VEVENT
BEGIN:VEVENT
DTSTART;TZID=Australia/Perth:20241104T080000
DTEND;TZID=Australia/Perth:20241106T141000
DTSTAMP:20260423T230048
CREATED:20240223T061851Z
LAST-MODIFIED:20240223T061851Z
UID:4451-1730707200-1730902200@broomenorthps.wa.edu.au
SUMMARY:Kindy Bandily
DESCRIPTION:
URL:https://broomenorthps.wa.edu.au/event/kindy-bandily-60/
CATEGORIES:3. Kindy Days
END:VEVENT
BEGIN:VEVENT
DTSTART;TZID=Australia/Perth:20241030T080000
DTEND;TZID=Australia/Perth:20241101T141000
DTSTAMP:20260423T230048
CREATED:20240223T033801Z
LAST-MODIFIED:20240223T033801Z
UID:4387-1730275200-1730470200@broomenorthps.wa.edu.au
SUMMARY:Kindy Walag
DESCRIPTION:
URL:https://broomenorthps.wa.edu.au/event/kindy-walag-59/
CATEGORIES:3. Kindy Days
END:VEVENT
BEGIN:VEVENT
DTSTART;TZID=Australia/Perth:20241028T080000
DTEND;TZID=Australia/Perth:20241029T141000
DTSTAMP:20260423T230048
CREATED:20240223T033615Z
LAST-MODIFIED:20240223T033615Z
UID:4385-1730102400-1730211000@broomenorthps.wa.edu.au
SUMMARY:Kindy Bandily
DESCRIPTION:
URL:https://broomenorthps.wa.edu.au/event/kindy-bandily-59/
CATEGORIES:3. Kindy Days
END:VEVENT
BEGIN:VEVENT
DTSTART;TZID=Australia/Perth:20241024T080000
DTEND;TZID=Australia/Perth:20241025T141000
DTSTAMP:20260423T230048
CREATED:20240223T033523Z
LAST-MODIFIED:20240223T033523Z
UID:4383-1729756800-1729865400@broomenorthps.wa.edu.au
SUMMARY:Kindy Walag
DESCRIPTION:
URL:https://broomenorthps.wa.edu.au/event/kindy-walag-58/
CATEGORIES:3. Kindy Days
END:VEVENT
BEGIN:VEVENT
DTSTART;TZID=Australia/Perth:20241021T080000
DTEND;TZID=Australia/Perth:20241023T141000
DTSTAMP:20260423T230048
CREATED:20240223T033436Z
LAST-MODIFIED:20240223T033436Z
UID:4381-1729497600-1729692600@broomenorthps.wa.edu.au
SUMMARY:Kindy Bandily
DESCRIPTION:
URL:https://broomenorthps.wa.edu.au/event/kindy-bandily-58/
CATEGORIES:3. Kindy Days
END:VEVENT
BEGIN:VEVENT
DTSTART;TZID=Australia/Perth:20241016T080000
DTEND;TZID=Australia/Perth:20241018T141000
DTSTAMP:20260423T230048
CREATED:20240223T033331Z
LAST-MODIFIED:20240223T033331Z
UID:4379-1729065600-1729260600@broomenorthps.wa.edu.au
SUMMARY:Kindy Walag
DESCRIPTION:
URL:https://broomenorthps.wa.edu.au/event/kindy-walag-57/
CATEGORIES:3. Kindy Days
END:VEVENT
BEGIN:VEVENT
DTSTART;TZID=Australia/Perth:20241014T080000
DTEND;TZID=Australia/Perth:20241015T141000
DTSTAMP:20260423T230048
CREATED:20240223T033235Z
LAST-MODIFIED:20240223T033235Z
UID:4377-1728892800-1729001400@broomenorthps.wa.edu.au
SUMMARY:Kindy Bandily
DESCRIPTION:
URL:https://broomenorthps.wa.edu.au/event/kindy-bandily-57/
CATEGORIES:3. Kindy Days
END:VEVENT
BEGIN:VEVENT
DTSTART;TZID=Australia/Perth:20241011T120000
DTEND;TZID=Australia/Perth:20241011T150000
DTSTAMP:20260423T230048
CREATED:20240223T032053Z
LAST-MODIFIED:20240223T032053Z
UID:4371-1728648000-1728658800@broomenorthps.wa.edu.au
SUMMARY:Kindy 2025 Confirmation Letters Sent
DESCRIPTION:http://broomenorthps.wa.edu.au/wp-content/uploads/Key-dates-for-Kindy-2025.pdf
URL:https://broomenorthps.wa.edu.au/event/kindy-2025-confirmation-letters-sent/
CATEGORIES:3. Kindy Days
END:VEVENT
BEGIN:VEVENT
DTSTART;TZID=Australia/Perth:20241010T080000
DTEND;TZID=Australia/Perth:20241011T141000
DTSTAMP:20260423T230048
CREATED:20240223T033146Z
LAST-MODIFIED:20240223T033146Z
UID:4375-1728547200-1728655800@broomenorthps.wa.edu.au
SUMMARY:Kindy Walag
DESCRIPTION:
URL:https://broomenorthps.wa.edu.au/event/kindy-walag-56/
CATEGORIES:3. Kindy Days
END:VEVENT
BEGIN:VEVENT
DTSTART;TZID=Australia/Perth:20241007T080000
DTEND;TZID=Australia/Perth:20241009T141000
DTSTAMP:20260423T230048
CREATED:20240223T032344Z
LAST-MODIFIED:20240223T032344Z
UID:4373-1728288000-1728483000@broomenorthps.wa.edu.au
SUMMARY:Kindy Bandily
DESCRIPTION:
URL:https://broomenorthps.wa.edu.au/event/kindy-bandily-56/
CATEGORIES:3. Kindy Days
END:VEVENT
BEGIN:VEVENT
DTSTART;TZID=Australia/Perth:20240918T080000
DTEND;TZID=Australia/Perth:20240920T141000
DTSTAMP:20260423T230048
CREATED:20240220T063542Z
LAST-MODIFIED:20240220T063542Z
UID:4166-1726646400-1726841400@broomenorthps.wa.edu.au
SUMMARY:Kindy Walag
DESCRIPTION:
URL:https://broomenorthps.wa.edu.au/event/kindy-walag-55/
CATEGORIES:3. Kindy Days
END:VEVENT
BEGIN:VEVENT
DTSTART;TZID=Australia/Perth:20240916T080000
DTEND;TZID=Australia/Perth:20240917T141000
DTSTAMP:20260423T230048
CREATED:20240220T063505Z
LAST-MODIFIED:20240220T063505Z
UID:4164-1726473600-1726582200@broomenorthps.wa.edu.au
SUMMARY:Kindy Bandily
DESCRIPTION:
URL:https://broomenorthps.wa.edu.au/event/kindy-bandily-55/
CATEGORIES:3. Kindy Days
END:VEVENT
BEGIN:VEVENT
DTSTART;TZID=Australia/Perth:20240912T080000
DTEND;TZID=Australia/Perth:20240913T141000
DTSTAMP:20260423T230048
CREATED:20240220T063426Z
LAST-MODIFIED:20240220T063426Z
UID:4162-1726128000-1726236600@broomenorthps.wa.edu.au
SUMMARY:Kindy Walag
DESCRIPTION:
URL:https://broomenorthps.wa.edu.au/event/kindy-walag-54/
CATEGORIES:3. Kindy Days
END:VEVENT
BEGIN:VEVENT
DTSTART;TZID=Australia/Perth:20240909T080000
DTEND;TZID=Australia/Perth:20240911T141000
DTSTAMP:20260423T230048
CREATED:20240220T063344Z
LAST-MODIFIED:20240220T063344Z
UID:4160-1725868800-1726063800@broomenorthps.wa.edu.au
SUMMARY:Kindy Bandily
DESCRIPTION:
URL:https://broomenorthps.wa.edu.au/event/kindy-bandily-54/
CATEGORIES:3. Kindy Days
END:VEVENT
BEGIN:VEVENT
DTSTART;TZID=Australia/Perth:20240904T080000
DTEND;TZID=Australia/Perth:20240906T141000
DTSTAMP:20260423T230048
CREATED:20240220T063247Z
LAST-MODIFIED:20240220T063247Z
UID:4158-1725436800-1725631800@broomenorthps.wa.edu.au
SUMMARY:Kindy Walag
DESCRIPTION:
URL:https://broomenorthps.wa.edu.au/event/kindy-walag-53/
CATEGORIES:3. Kindy Days
END:VEVENT
BEGIN:VEVENT
DTSTART;TZID=Australia/Perth:20240902T080000
DTEND;TZID=Australia/Perth:20240903T141000
DTSTAMP:20260423T230048
CREATED:20240220T063206Z
LAST-MODIFIED:20240220T063206Z
UID:4156-1725264000-1725372600@broomenorthps.wa.edu.au
SUMMARY:Kindy Bandily
DESCRIPTION:
URL:https://broomenorthps.wa.edu.au/event/kindy-bandily-53/
CATEGORIES:3. Kindy Days
END:VEVENT
BEGIN:VEVENT
DTSTART;TZID=Australia/Perth:20240829T080000
DTEND;TZID=Australia/Perth:20240830T141000
DTSTAMP:20260423T230048
CREATED:20240220T063102Z
LAST-MODIFIED:20240220T063102Z
UID:4154-1724918400-1725027000@broomenorthps.wa.edu.au
SUMMARY:Kindy Walag
DESCRIPTION:
URL:https://broomenorthps.wa.edu.au/event/kindy-walag-52/
CATEGORIES:3. Kindy Days
END:VEVENT
END:VCALENDAR